BEGIN:VCALENDAR
VERSION:2.0
PRODID:-//Déambulaterre - ECPv6.15.20//NONSGML v1.0//EN
CALSCALE:GREGORIAN
METHOD:PUBLISH
X-WR-CALNAME:Déambulaterre
X-ORIGINAL-URL:https://deambulaterre.org
X-WR-CALDESC:Évènements pour Déambulaterre
REFRESH-INTERVAL;VALUE=DURATION:PT1H
X-Robots-Tag:noindex
X-PUBLISHED-TTL:PT1H
BEGIN:VTIMEZONE
TZID:Europe/Paris
BEGIN:DAYLIGHT
TZOFFSETFROM:+0100
TZOFFSETTO:+0200
TZNAME:CEST
DTSTART:20230326T010000
END:DAYLIGHT
BEGIN:STANDARD
TZOFFSETFROM:+0200
TZOFFSETTO:+0100
TZNAME:CET
DTSTART:20231029T010000
END:STANDARD
BEGIN:DAYLIGHT
TZOFFSETFROM:+0100
TZOFFSETTO:+0200
TZNAME:CEST
DTSTART:20240331T010000
END:DAYLIGHT
BEGIN:STANDARD
TZOFFSETFROM:+0200
TZOFFSETTO:+0100
TZNAME:CET
DTSTART:20241027T010000
END:STANDARD
BEGIN:DAYLIGHT
TZOFFSETFROM:+0100
TZOFFSETTO:+0200
TZNAME:CEST
DTSTART:20250330T010000
END:DAYLIGHT
BEGIN:STANDARD
TZOFFSETFROM:+0200
TZOFFSETTO:+0100
TZNAME:CET
DTSTART:20251026T010000
END:STANDARD
END:VTIMEZONE
BEGIN:VEVENT
DTSTART;TZID=Europe/Paris:20240302T200000
DTEND;TZID=Europe/Paris:20240303T010000
DTSTAMP:20260422T235831
CREATED:20240225T195015Z
LAST-MODIFIED:20240225T195414Z
UID:824-1709409600-1709427600@deambulaterre.org
SUMMARY:Concert de soutien au collectif Noom
DESCRIPTION:Rendez-vous le samedi 2 mars à 20h à La Fontaine de Brocéliande pour un concert de soutien au Collectif NOOM\, en compagnie de deux excellents groupes : Druids of the Gué Charette et Isolat Junction. Venez nombreux.ses!
URL:https://deambulaterre.org/event/concert-de-soutien-au-collectif-noom/
LOCATION:La fontaine de Brocéliande\, Saint Péran\, 35380
ATTACH;FMTTYPE=image/jpeg:https://deambulaterre.org/wp-content/uploads/2024/02/Soutien-a-Noom.jpg
END:VEVENT
END:VCALENDAR