BEGIN:VCALENDAR
VERSION:2.0
PRODID:-//Déambulaterre - ECPv6.15.20//NONSGML v1.0//EN
CALSCALE:GREGORIAN
METHOD:PUBLISH
X-ORIGINAL-URL:https://deambulaterre.org
X-WR-CALDESC:Évènements pour Déambulaterre
REFRESH-INTERVAL;VALUE=DURATION:PT1H
X-Robots-Tag:noindex
X-PUBLISHED-TTL:PT1H
BEGIN:VTIMEZONE
TZID:Europe/Paris
BEGIN:DAYLIGHT
TZOFFSETFROM:+0100
TZOFFSETTO:+0200
TZNAME:CEST
DTSTART:20230326T010000
END:DAYLIGHT
BEGIN:STANDARD
TZOFFSETFROM:+0200
TZOFFSETTO:+0100
TZNAME:CET
DTSTART:20231029T010000
END:STANDARD
BEGIN:DAYLIGHT
TZOFFSETFROM:+0100
TZOFFSETTO:+0200
TZNAME:CEST
DTSTART:20240331T010000
END:DAYLIGHT
BEGIN:STANDARD
TZOFFSETFROM:+0200
TZOFFSETTO:+0100
TZNAME:CET
DTSTART:20241027T010000
END:STANDARD
BEGIN:DAYLIGHT
TZOFFSETFROM:+0100
TZOFFSETTO:+0200
TZNAME:CEST
DTSTART:20250330T010000
END:DAYLIGHT
BEGIN:STANDARD
TZOFFSETFROM:+0200
TZOFFSETTO:+0100
TZNAME:CET
DTSTART:20251026T010000
END:STANDARD
END:VTIMEZONE
BEGIN:VEVENT
DTSTART;TZID=Europe/Paris:20240413T100000
DTEND;TZID=Europe/Paris:20240413T180000
DTSTAMP:20260422T211050
CREATED:20240405T141046Z
LAST-MODIFIED:20240405T141046Z
UID:879-1713002400-1713031200@deambulaterre.org
SUMMARY:Journée d'infos et de débats sur France Travail
DESCRIPTION:Organisé par LFI\, Les Déambulateurs56 et l’union locale CGT \nDepuis le 1er janvier une nouvelle loi dite « Plein emploi » est entrée en vigueur avec en\nparallèle la mise en place de France Travail pour l’appliquer en succédant à Pôle emploi. Il nous\nsemble important de savoir\, réfléchir et débattre collectivement autour de cette réforme. \n10h – 12h : Matinée débat : Que se cache-t-il derrière la loi Plein Emploi ? \n12h – 14h : Déjeuner convivial \n14h – 16h : Jeux pratiques: Ça fait quoi\, ça donne quoi\, expériences\, cas concrets… \n16h – 18h : Conférence gesticulée de Cécile F : « Inclusion mon œil\, le marché de l’emploi comme fabrique du handicap »\, parcours d’une mal-voyante dans la jungle de l’emploi. \nEntrée libre de 10h à 18h (chapeau) \nInformation et contact (réservation conseillée) : 06 51 14 03 95
URL:https://deambulaterre.org/event/journee-dinfos-et-de-debats-sur-france-travail/
LOCATION:Mairie d’Augan\, Augan\, 56800
ATTACH;FMTTYPE=image/png:https://deambulaterre.org/wp-content/uploads/2024/04/JourneeFranceTravail-Deambulateurs56.png
END:VEVENT
END:VCALENDAR