BEGIN:VCALENDAR
VERSION:2.0
PRODID:-//Déambulaterre - ECPv6.15.20//NONSGML v1.0//EN
CALSCALE:GREGORIAN
METHOD:PUBLISH
X-ORIGINAL-URL:https://deambulaterre.org
X-WR-CALDESC:Évènements pour Déambulaterre
REFRESH-INTERVAL;VALUE=DURATION:PT1H
X-Robots-Tag:noindex
X-PUBLISHED-TTL:PT1H
BEGIN:VTIMEZONE
TZID:Europe/Paris
BEGIN:DAYLIGHT
TZOFFSETFROM:+0100
TZOFFSETTO:+0200
TZNAME:CEST
DTSTART:20230326T010000
END:DAYLIGHT
BEGIN:STANDARD
TZOFFSETFROM:+0200
TZOFFSETTO:+0100
TZNAME:CET
DTSTART:20231029T010000
END:STANDARD
BEGIN:DAYLIGHT
TZOFFSETFROM:+0100
TZOFFSETTO:+0200
TZNAME:CEST
DTSTART:20240331T010000
END:DAYLIGHT
BEGIN:STANDARD
TZOFFSETFROM:+0200
TZOFFSETTO:+0100
TZNAME:CET
DTSTART:20241027T010000
END:STANDARD
BEGIN:DAYLIGHT
TZOFFSETFROM:+0100
TZOFFSETTO:+0200
TZNAME:CEST
DTSTART:20250330T010000
END:DAYLIGHT
BEGIN:STANDARD
TZOFFSETFROM:+0200
TZOFFSETTO:+0100
TZNAME:CET
DTSTART:20251026T010000
END:STANDARD
END:VTIMEZONE
BEGIN:VEVENT
DTSTART;TZID=Europe/Paris:20240509T183000
DTEND;TZID=Europe/Paris:20240509T203000
DTSTAMP:20260422T193356
CREATED:20240505T173426Z
LAST-MODIFIED:20240505T173426Z
UID:921-1715279400-1715286600@deambulaterre.org
SUMMARY:“L’habitat participatif : pourquoi et comment ?”
DESCRIPTION:Le Galais a le plaisir de vous inviter au prochain “Jeudi du Galais” qui s’intéressera au thème de l’habitat partagé\, avec la participation d’Anne-Laure NICOLAS\, cofondatrice de l’écolieu Le Bois du Barde à Mellionnec (Côtes d’Armor). \nPour celles et ceux qui désirent aujourd’hui tenter cette aventure\, les chemins déjà empruntés par d’autres sont précieux à connaître\, autant au niveau humain qu’administratif\, économique\, écologique\, financier\, etc. \nCe jeudi 9 mai de 18h30 a 20h30 a La Fourmiliere (à gauche de la Biocoop) \nL’accès à cette rencontre est libre et gratuit. Une participation à prix libre sera proposée pour défrayer Anne-Laure de son déplacement. \n 
URL:https://deambulaterre.org/event/lhabitat-participatif-pourquoi-et-comment/
LOCATION:La Fourmilière\, 59a Boulevard Laennec\, Ploërmel\, Morbihan\, 56800
END:VEVENT
END:VCALENDAR