BEGIN:VCALENDAR
VERSION:2.0
PRODID:-//Déambulaterre - ECPv6.15.20//NONSGML v1.0//EN
CALSCALE:GREGORIAN
METHOD:PUBLISH
X-WR-CALNAME:Déambulaterre
X-ORIGINAL-URL:https://deambulaterre.org
X-WR-CALDESC:Évènements pour Déambulaterre
REFRESH-INTERVAL;VALUE=DURATION:PT1H
X-Robots-Tag:noindex
X-PUBLISHED-TTL:PT1H
BEGIN:VTIMEZONE
TZID:Europe/Paris
BEGIN:DAYLIGHT
TZOFFSETFROM:+0100
TZOFFSETTO:+0200
TZNAME:CEST
DTSTART:20230326T010000
END:DAYLIGHT
BEGIN:STANDARD
TZOFFSETFROM:+0200
TZOFFSETTO:+0100
TZNAME:CET
DTSTART:20231029T010000
END:STANDARD
BEGIN:DAYLIGHT
TZOFFSETFROM:+0100
TZOFFSETTO:+0200
TZNAME:CEST
DTSTART:20240331T010000
END:DAYLIGHT
BEGIN:STANDARD
TZOFFSETFROM:+0200
TZOFFSETTO:+0100
TZNAME:CET
DTSTART:20241027T010000
END:STANDARD
BEGIN:DAYLIGHT
TZOFFSETFROM:+0100
TZOFFSETTO:+0200
TZNAME:CEST
DTSTART:20250330T010000
END:DAYLIGHT
BEGIN:STANDARD
TZOFFSETFROM:+0200
TZOFFSETTO:+0100
TZNAME:CET
DTSTART:20251026T010000
END:STANDARD
END:VTIMEZONE
BEGIN:VEVENT
DTSTART;TZID=Europe/Paris:20240529T190000
DTEND;TZID=Europe/Paris:20240529T210000
DTSTAMP:20260422T180949
CREATED:20240525T101143Z
LAST-MODIFIED:20240525T101321Z
UID:958-1717009200-1717016400@deambulaterre.org
SUMMARY:Débat sur la question agricole dans les élections européennes
DESCRIPTION:Dans le cadre des élections européennes\, la France Insoumise (LFI) et l’Union Populaire\ninforme de la prochaine tenue d’une soirée débat sur la crise et les questions agricoles\, sous la\nprésidence de Mathilde HIGNET\, députée LFI de la 4e circonscription de l’Ille-et-Vilaine (Redon)\, et\nde Maxime BERGONSO\, candidat aux élections européennes du 9 juin\, sur la liste menée par\nManon AUBRY.\nTous les deux sont particulièrement impliqués dans le monde paysan\, de par leurs professions et\nleurs responsabilités politiques ou associatives\nCe sera à Questembert\, le mercredi 29 mai à 19h.\,\nsalle Alan Meur\, Place de la mairie.
URL:https://deambulaterre.org/event/la-question-agricole-dans-les-elections-europeennes/
LOCATION:salle Alan Meur\, Place de la mairie\, Questembert
END:VEVENT
BEGIN:VEVENT
DTSTART;TZID=Europe/Paris:20240529T193000
DTEND;TZID=Europe/Paris:20240529T220000
DTSTAMP:20260422T180949
CREATED:20240423T163544Z
LAST-MODIFIED:20240423T163544Z
UID:917-1717011000-1717020000@deambulaterre.org
SUMMARY:Les Blas Blas de l'ESS : Pourquoi et comment quitter les GAFAM ?
DESCRIPTION:Les Blablas de l’ESS reviendront mercredi 29 mai\, sur le thème du numérique libre et local avec l’association Kaz. \nRendez-vous à 19h30 au Champ Commun\, à Augan.\nEntrée libre ! \nAvec KAZ \, le numérique libre et local !
URL:https://deambulaterre.org/event/les-blas-blas-de-less-pourquoi-et-comment-quitter-les-gafam/
LOCATION:Champ commun\, 1 rue du Clos bily\, Augan\, 56800
END:VEVENT
END:VCALENDAR