BEGIN:VCALENDAR
VERSION:2.0
PRODID:-//Déambulaterre - ECPv6.15.20//NONSGML v1.0//EN
CALSCALE:GREGORIAN
METHOD:PUBLISH
X-WR-CALNAME:Déambulaterre
X-ORIGINAL-URL:https://deambulaterre.org
X-WR-CALDESC:Évènements pour Déambulaterre
REFRESH-INTERVAL;VALUE=DURATION:PT1H
X-Robots-Tag:noindex
X-PUBLISHED-TTL:PT1H
BEGIN:VTIMEZONE
TZID:Europe/Paris
BEGIN:DAYLIGHT
TZOFFSETFROM:+0100
TZOFFSETTO:+0200
TZNAME:CEST
DTSTART:20230326T010000
END:DAYLIGHT
BEGIN:STANDARD
TZOFFSETFROM:+0200
TZOFFSETTO:+0100
TZNAME:CET
DTSTART:20231029T010000
END:STANDARD
BEGIN:DAYLIGHT
TZOFFSETFROM:+0100
TZOFFSETTO:+0200
TZNAME:CEST
DTSTART:20240331T010000
END:DAYLIGHT
BEGIN:STANDARD
TZOFFSETFROM:+0200
TZOFFSETTO:+0100
TZNAME:CET
DTSTART:20241027T010000
END:STANDARD
BEGIN:DAYLIGHT
TZOFFSETFROM:+0100
TZOFFSETTO:+0200
TZNAME:CEST
DTSTART:20250330T010000
END:DAYLIGHT
BEGIN:STANDARD
TZOFFSETFROM:+0200
TZOFFSETTO:+0100
TZNAME:CET
DTSTART:20251026T010000
END:STANDARD
END:VTIMEZONE
BEGIN:VEVENT
DTSTART;TZID=Europe/Paris:20240607T190000
DTEND;TZID=Europe/Paris:20240607T210000
DTSTAMP:20260422T180221
CREATED:20240525T100738Z
LAST-MODIFIED:20240525T100738Z
UID:953-1717786800-1717794000@deambulaterre.org
SUMMARY:Conférence  sur les coûts cachés des pesticides
DESCRIPTION:Les pesticides sont un désastre pour la santé et l’environnement. Ce que l’on sait moins\, c’est que le bilan économique des pesticides est aussi catastrophique : les coûts engendrés par les pesticides dépassent largement leurs bénéfices. \nUn groupe de chercheurs s’est penché sur cette question en analysant les coûts induits par l’utilisation des pesticides.\nUne équipe franco-belge\, composée de l’Université de Louvain et du bureau d’études BASIC\, a identifié la nature et les coûts associés à l’usage de ces produits chimiques. \nLe Collectif de soutien aux victimes des pesticides de l’ouest a invité Christophe Alliot\, membre de cette équipe\, à venir nous présenter cette étude au cours d’une conférence qui aura lieu vendredi 7 juin à 19h dans la Maison de la vie associative de Rennes. \n  \n 
URL:https://deambulaterre.org/event/conference-sur-les-couts-caches-des-pesticides/
LOCATION:maison de a vie associative de Rennes\, 6 cours des Alliès\, Rennes\, 35000
ATTACH;FMTTYPE=image/jpeg:https://deambulaterre.org/wp-content/uploads/2024/05/confcoutspesticides.jpg
END:VEVENT
END:VCALENDAR