BEGIN:VCALENDAR
VERSION:2.0
PRODID:-//Déambulaterre - ECPv6.15.20//NONSGML v1.0//EN
CALSCALE:GREGORIAN
METHOD:PUBLISH
X-ORIGINAL-URL:https://deambulaterre.org
X-WR-CALDESC:Évènements pour Déambulaterre
REFRESH-INTERVAL;VALUE=DURATION:PT1H
X-Robots-Tag:noindex
X-PUBLISHED-TTL:PT1H
BEGIN:VTIMEZONE
TZID:Europe/Paris
BEGIN:DAYLIGHT
TZOFFSETFROM:+0100
TZOFFSETTO:+0200
TZNAME:CEST
DTSTART:20230326T010000
END:DAYLIGHT
BEGIN:STANDARD
TZOFFSETFROM:+0200
TZOFFSETTO:+0100
TZNAME:CET
DTSTART:20231029T010000
END:STANDARD
BEGIN:DAYLIGHT
TZOFFSETFROM:+0100
TZOFFSETTO:+0200
TZNAME:CEST
DTSTART:20240331T010000
END:DAYLIGHT
BEGIN:STANDARD
TZOFFSETFROM:+0200
TZOFFSETTO:+0100
TZNAME:CET
DTSTART:20241027T010000
END:STANDARD
BEGIN:DAYLIGHT
TZOFFSETFROM:+0100
TZOFFSETTO:+0200
TZNAME:CEST
DTSTART:20250330T010000
END:DAYLIGHT
BEGIN:STANDARD
TZOFFSETFROM:+0200
TZOFFSETTO:+0100
TZNAME:CET
DTSTART:20251026T010000
END:STANDARD
END:VTIMEZONE
BEGIN:VEVENT
DTSTART;TZID=Europe/Paris:20240611T200000
DTEND;TZID=Europe/Paris:20240611T220000
DTSTAMP:20260422T181401
CREATED:20240608T104252Z
LAST-MODIFIED:20240608T104928Z
UID:986-1718136000-1718143200@deambulaterre.org
SUMMARY:Conférence-débat : L'Ukraine toujours en guerre et maintenant ?
DESCRIPTION:Avec Tim Baster & Isabelle Merminod\nJournalistes indépendants \nEn lien avec le Comité de Jumelage PLOERMEL – KOLBUSZOWA
URL:https://deambulaterre.org/event/conference-debat-lukraine-toujours-en-guerre-et-maintenant/
LOCATION:Amphithéatre du lycée La Mennais\, Ploërmel
END:VEVENT
END:VCALENDAR