BEGIN:VCALENDAR
VERSION:2.0
PRODID:-//Déambulaterre - ECPv6.15.20//NONSGML v1.0//EN
CALSCALE:GREGORIAN
METHOD:PUBLISH
X-WR-CALNAME:Déambulaterre
X-ORIGINAL-URL:https://deambulaterre.org
X-WR-CALDESC:Évènements pour Déambulaterre
REFRESH-INTERVAL;VALUE=DURATION:PT1H
X-Robots-Tag:noindex
X-PUBLISHED-TTL:PT1H
BEGIN:VTIMEZONE
TZID:Europe/Paris
BEGIN:DAYLIGHT
TZOFFSETFROM:+0100
TZOFFSETTO:+0200
TZNAME:CEST
DTSTART:20230326T010000
END:DAYLIGHT
BEGIN:STANDARD
TZOFFSETFROM:+0200
TZOFFSETTO:+0100
TZNAME:CET
DTSTART:20231029T010000
END:STANDARD
BEGIN:DAYLIGHT
TZOFFSETFROM:+0100
TZOFFSETTO:+0200
TZNAME:CEST
DTSTART:20240331T010000
END:DAYLIGHT
BEGIN:STANDARD
TZOFFSETFROM:+0200
TZOFFSETTO:+0100
TZNAME:CET
DTSTART:20241027T010000
END:STANDARD
BEGIN:DAYLIGHT
TZOFFSETFROM:+0100
TZOFFSETTO:+0200
TZNAME:CEST
DTSTART:20250330T010000
END:DAYLIGHT
BEGIN:STANDARD
TZOFFSETFROM:+0200
TZOFFSETTO:+0100
TZNAME:CET
DTSTART:20251026T010000
END:STANDARD
END:VTIMEZONE
BEGIN:VEVENT
DTSTART;TZID=Europe/Paris:20240621T090000
DTEND;TZID=Europe/Paris:20240621T110000
DTSTAMP:20260422T180349
CREATED:20240618T193505Z
LAST-MODIFIED:20240618T193505Z
UID:1012-1718960400-1718967600@deambulaterre.org
SUMMARY:Soutien aux victimes de pesticides
DESCRIPTION:Le Collectif de soutien aux victimes des pesticides de l’ouest informe que le  vendredi 21 juin à 9h\,  se tiendra un rassemblement de soutien à plusieurs victimes des pesticides. \ndevant le Tribunal Judiciaire  \n7 rue Pierre Abélard \nà RENNES \nCette audience examinera les demandes de 6 victimes des pesticides. \nToutes originaires d’Ille et Vilaine\, notre Collectif les soutient face aux décisions du Fonds d’Indemnisation des Victimes des Pesticides (FIVP) et de la MSA Portes de Bretagne : \n\nMichel\, 76 ans\, paysan\, souffre d’une maladie neurocognitive et conteste le refus de reconnaissance en maladie professionnelle (maladie hors-tableau)\nHubert\, 66 ans\, paysan\, souffre d’une polyradiculonévrite et conteste aussi le refus de reconnaissance en maladie professionnelle (maladie hors-tableau)\nClaude\, 66 ans\, paysan\, est reconnu en maladie professionnelle pour parkinson\, mais conteste la date de consolidation de sa maladie (et donc de début de versement de la rente)\nBernard\, 70 ans\, paysan\, est reconnu en maladie professionnelle pour leucémie lymphoïde chronique (LLC)\, mais conteste aussi la date de consolidation de sa maladie\nKarine\, veuve de Christophe décédé en 2020 à 44 ans d’un glioblastome reconnu comme maladie professionnelle\, conteste le montant de la rente qui lui est versée.\nJean Claude\, 74 ans\, technicien agricole\, reconnu en maladie professionnelle pour parkinson\, mène un long combat pour la reconnaissance de la faute Inexcusable de l’employeur.\n\nLa coopérative AGRIAL utilise des manœuvres dilatoires pour s’opposer à cette reconnaissance. \nLeur défense sera assurée par Me LAFFORGUE et Me BARON. \nCes combats qui dépassent le simple enjeu individuel\, pour être gagnés\, nécessitent la solidarité de tous ! Venez nombreuses-eux !
URL:https://deambulaterre.org/event/soutien-aux-victimes-de-pesticides/
LOCATION:tribunal judiciaire de rennes\, 7 rue Pierre Abelard\, Rennes
END:VEVENT
END:VCALENDAR