BEGIN:VCALENDAR
VERSION:2.0
PRODID:-//Déambulaterre - ECPv6.15.20//NONSGML v1.0//EN
CALSCALE:GREGORIAN
METHOD:PUBLISH
X-ORIGINAL-URL:https://deambulaterre.org
X-WR-CALDESC:Évènements pour Déambulaterre
REFRESH-INTERVAL;VALUE=DURATION:PT1H
X-Robots-Tag:noindex
X-PUBLISHED-TTL:PT1H
BEGIN:VTIMEZONE
TZID:Europe/Paris
BEGIN:DAYLIGHT
TZOFFSETFROM:+0100
TZOFFSETTO:+0200
TZNAME:CEST
DTSTART:20230326T010000
END:DAYLIGHT
BEGIN:STANDARD
TZOFFSETFROM:+0200
TZOFFSETTO:+0100
TZNAME:CET
DTSTART:20231029T010000
END:STANDARD
BEGIN:DAYLIGHT
TZOFFSETFROM:+0100
TZOFFSETTO:+0200
TZNAME:CEST
DTSTART:20240331T010000
END:DAYLIGHT
BEGIN:STANDARD
TZOFFSETFROM:+0200
TZOFFSETTO:+0100
TZNAME:CET
DTSTART:20241027T010000
END:STANDARD
BEGIN:DAYLIGHT
TZOFFSETFROM:+0100
TZOFFSETTO:+0200
TZNAME:CEST
DTSTART:20250330T010000
END:DAYLIGHT
BEGIN:STANDARD
TZOFFSETFROM:+0200
TZOFFSETTO:+0100
TZNAME:CET
DTSTART:20251026T010000
END:STANDARD
END:VTIMEZONE
BEGIN:VEVENT
DTSTART;TZID=Europe/Paris:20240626T193000
DTEND;TZID=Europe/Paris:20240626T223000
DTSTAMP:20260422T180532
CREATED:20240608T104810Z
LAST-MODIFIED:20240608T104810Z
UID:990-1719430200-1719441000@deambulaterre.org
SUMMARY:RENCONTRE-ÉCHANGE SUR LA RECHERCHE-ACTION
DESCRIPTION:Mercredi 26 juin\, ESS’entiel organise un temps d’échanges au Champ Commun avec deux sociologues travaillant sur la recherche-action et les expérimentations collectives. \nPascal Nicolas-Le Strat et Louis Staritzky ont entre autres participé à la reprise en main de projets de rénovation urbaine par les habitants (dans des quartiers populaires du Nord) et\, en parallèle\, à la fabrication de fanzines pour documenter ces luttes.
URL:https://deambulaterre.org/event/rencontre-echange-sur-la-recherche-action/
LOCATION:Champ commun\, 1 rue du Clos bily\, Augan\, 56800
ATTACH;FMTTYPE=image/jpeg:https://deambulaterre.org/wp-content/uploads/2024/06/Remue-meninges-26-juin-2024.jpg
END:VEVENT
END:VCALENDAR