BEGIN:VCALENDAR
VERSION:2.0
PRODID:-//Déambulaterre - ECPv6.15.20//NONSGML v1.0//EN
CALSCALE:GREGORIAN
METHOD:PUBLISH
X-ORIGINAL-URL:https://deambulaterre.org
X-WR-CALDESC:Évènements pour Déambulaterre
REFRESH-INTERVAL;VALUE=DURATION:PT1H
X-Robots-Tag:noindex
X-PUBLISHED-TTL:PT1H
BEGIN:VTIMEZONE
TZID:Europe/Paris
BEGIN:DAYLIGHT
TZOFFSETFROM:+0100
TZOFFSETTO:+0200
TZNAME:CEST
DTSTART:20240331T010000
END:DAYLIGHT
BEGIN:STANDARD
TZOFFSETFROM:+0200
TZOFFSETTO:+0100
TZNAME:CET
DTSTART:20241027T010000
END:STANDARD
BEGIN:DAYLIGHT
TZOFFSETFROM:+0100
TZOFFSETTO:+0200
TZNAME:CEST
DTSTART:20250330T010000
END:DAYLIGHT
BEGIN:STANDARD
TZOFFSETFROM:+0200
TZOFFSETTO:+0100
TZNAME:CET
DTSTART:20251026T010000
END:STANDARD
BEGIN:DAYLIGHT
TZOFFSETFROM:+0100
TZOFFSETTO:+0200
TZNAME:CEST
DTSTART:20260329T010000
END:DAYLIGHT
BEGIN:STANDARD
TZOFFSETFROM:+0200
TZOFFSETTO:+0100
TZNAME:CET
DTSTART:20261025T010000
END:STANDARD
END:VTIMEZONE
BEGIN:VEVENT
DTSTART;TZID=Europe/Paris:20250308T100000
DTEND;TZID=Europe/Paris:20250308T140000
DTSTAMP:20260420T055638
CREATED:20250226T161108Z
LAST-MODIFIED:20250226T161108Z
UID:1314-1741428000-1741442400@deambulaterre.org
SUMMARY:Journée internationale de lutte pour les droits des femmes et des personnes LGBTQIA+
DESCRIPTION:Violences sexistes\, sexuelles\, sociales\, économiques\, écologiques\, racistes\, LGBT-phobes\, validistes :\nC’en est TROP ! \nSAMEDI 8 mars 2025 \nRencontrons-nous\, discutons pour élaborer des revendications communes sur le Pays de Redon !\nRDV devant les halles\n10h stands\, prise de paroles\, …\n11h30 déambulation /manif\n12H30 retour au village/soupe et boissons chaudes \nAvec CGT REDON\nLa sonnette\nCollectif Queer Pays de Redon\nLes glaneureuses
URL:https://deambulaterre.org/event/journee-internationale-de-lutte-pour-les-droits-des-femmes-et-des-personnes-lgbtqia/
LOCATION:Les halles\, Redon
END:VEVENT
BEGIN:VEVENT
DTSTART;TZID=Europe/Paris:20250308T200000
DTEND;TZID=Europe/Paris:20250308T230000
DTSTAMP:20260420T055638
CREATED:20250304T180425Z
LAST-MODIFIED:20250304T180617Z
UID:1318-1741464000-1741474800@deambulaterre.org
SUMMARY:Projo/débat du film "La sociale" au tiers lieu Pulpe de Malestroit Samedi 8 mars!
DESCRIPTION:En racontant l’étonnante histoire de la Sécu\, La Sociale rend justice à ses héros oubliés\, mais aussi à une utopie toujours en marche\, et dont bénéficient 65 millions de Français. \nOuverture des portes et du bar à partir de 20h00\,\nProjection 20h30 suivie de discussions /débat. \nAdresse : 13 faubourg Sainte Anne (grille bleue) 56140 Malestroit \nJauge de 30 places inhérente au lieu\, résa conseillée en envoyant votre nom au 0679725061 \n 
URL:https://deambulaterre.org/event/projo-debat-du-film-la-sociale-au-tiers-lieu-pulpe-de-malestroit-samedi-8-mars/
LOCATION:Pulpe\, 13 Fbg Ste Anne\, Malestroit\, 56140
END:VEVENT
END:VCALENDAR