BEGIN:VCALENDAR
VERSION:2.0
PRODID:-//Déambulaterre - ECPv6.15.20//NONSGML v1.0//EN
CALSCALE:GREGORIAN
METHOD:PUBLISH
X-ORIGINAL-URL:https://deambulaterre.org
X-WR-CALDESC:Évènements pour Déambulaterre
REFRESH-INTERVAL;VALUE=DURATION:PT1H
X-Robots-Tag:noindex
X-PUBLISHED-TTL:PT1H
BEGIN:VTIMEZONE
TZID:Europe/Paris
BEGIN:DAYLIGHT
TZOFFSETFROM:+0100
TZOFFSETTO:+0200
TZNAME:CEST
DTSTART:20240331T010000
END:DAYLIGHT
BEGIN:STANDARD
TZOFFSETFROM:+0200
TZOFFSETTO:+0100
TZNAME:CET
DTSTART:20241027T010000
END:STANDARD
BEGIN:DAYLIGHT
TZOFFSETFROM:+0100
TZOFFSETTO:+0200
TZNAME:CEST
DTSTART:20250330T010000
END:DAYLIGHT
BEGIN:STANDARD
TZOFFSETFROM:+0200
TZOFFSETTO:+0100
TZNAME:CET
DTSTART:20251026T010000
END:STANDARD
BEGIN:DAYLIGHT
TZOFFSETFROM:+0100
TZOFFSETTO:+0200
TZNAME:CEST
DTSTART:20260329T010000
END:DAYLIGHT
BEGIN:STANDARD
TZOFFSETFROM:+0200
TZOFFSETTO:+0100
TZNAME:CET
DTSTART:20261025T010000
END:STANDARD
END:VTIMEZONE
BEGIN:VEVENT
DTSTART;TZID=Europe/Paris:20250326T193000
DTEND;TZID=Europe/Paris:20250326T220000
DTSTAMP:20260420T055723
CREATED:20250309T165736Z
LAST-MODIFIED:20250309T165736Z
UID:1349-1743017400-1743026400@deambulaterre.org
SUMMARY:Blablas de l'ESS : Defendre la vie sauvage
DESCRIPTION:Rencontre-échange dans le cadre des Blablas de l’Economie Sociale et Solidaire\n\n\n\n\n\nDéfendre la vie sauvage: des paysan·ne·s au service de la biodiversité.\nInvités : Léna\, animatrice nationale du réseau Paysans de Nature\, et Erwan\, à l’initiative du groupe local du pays de Guer et alentours. \nLes BLABLAS sont en partenariat avec Timbre FM radio associative auganaise pour la co-animation\, la régie son et la diffusion sur les ondes\, avec La Grange aux Livres\, librairie coopérative d’Augan qui mettra en avant une sélection de livres en lien avec la thématique et enfin bien sûr\, le Pôle ESS’entiel Ploërmel qui co-anime et organise l’événement. \nRetrouvez par ailleurs les PODCASTS des anciennes émissions sur essentiel-ploermel.fr \nEntrée libre // mercredi 26 mars à 19h30 // au Champ Commun à Augan
URL:https://deambulaterre.org/event/blablas-de-less-defendre-la-vie-sauvage/
LOCATION:Le Champ Commun\, Augan\, Morbihan
END:VEVENT
END:VCALENDAR