BEGIN:VCALENDAR
VERSION:2.0
PRODID:-//Déambulaterre - ECPv6.15.20//NONSGML v1.0//EN
CALSCALE:GREGORIAN
METHOD:PUBLISH
X-ORIGINAL-URL:https://deambulaterre.org
X-WR-CALDESC:Évènements pour Déambulaterre
REFRESH-INTERVAL;VALUE=DURATION:PT1H
X-Robots-Tag:noindex
X-PUBLISHED-TTL:PT1H
BEGIN:VTIMEZONE
TZID:Europe/Paris
BEGIN:DAYLIGHT
TZOFFSETFROM:+0100
TZOFFSETTO:+0200
TZNAME:CEST
DTSTART:20240331T010000
END:DAYLIGHT
BEGIN:STANDARD
TZOFFSETFROM:+0200
TZOFFSETTO:+0100
TZNAME:CET
DTSTART:20241027T010000
END:STANDARD
BEGIN:DAYLIGHT
TZOFFSETFROM:+0100
TZOFFSETTO:+0200
TZNAME:CEST
DTSTART:20250330T010000
END:DAYLIGHT
BEGIN:STANDARD
TZOFFSETFROM:+0200
TZOFFSETTO:+0100
TZNAME:CET
DTSTART:20251026T010000
END:STANDARD
BEGIN:DAYLIGHT
TZOFFSETFROM:+0100
TZOFFSETTO:+0200
TZNAME:CEST
DTSTART:20260329T010000
END:DAYLIGHT
BEGIN:STANDARD
TZOFFSETFROM:+0200
TZOFFSETTO:+0100
TZNAME:CET
DTSTART:20261025T010000
END:STANDARD
END:VTIMEZONE
BEGIN:VEVENT
DTSTART;TZID=Europe/Paris:20250430T193000
DTEND;TZID=Europe/Paris:20250430T210000
DTSTAMP:20260420T032819
CREATED:20250408T062357Z
LAST-MODIFIED:20250408T062357Z
UID:1380-1746041400-1746046800@deambulaterre.org
SUMMARY:Blablas de l'ESS : Chantiers solidaires\, apprendre et construire ensemble
DESCRIPTION:Soirée débat au  Champ Commun à Augan avec le Pôle ESS’entiel Ploërmel qui co-anime et organise l’événement. \nInvités : Sylvie et Joachim de l’association d’entraide « Apporter demain » de la Grée Saint-Laurent (56). \nAutour de Josselin\, une vingtaine de foyers mutualisent matériel et savoir-faire au sein de l’association APPORTER DEMAIN. De l’entraide entre voisin·e·s\, des ateliers et des chantiers solidaires sont organisés tous les mois pour faire ensemble\, transmettre et apprendre des techniques d’éco-rénovation.\nL’objectif : construire\, par l’entraide\, l’autonomie individuelle et collective. \nUne initiative inspirante et joyeuse qui ne demande qu’à essaimer !
URL:https://deambulaterre.org/event/blablas-de-less-chantiers-solidaires-apprendre-et-construire-ensemble/
END:VEVENT
END:VCALENDAR