BEGIN:VCALENDAR
VERSION:2.0
PRODID:-//Déambulaterre - ECPv6.15.20//NONSGML v1.0//EN
CALSCALE:GREGORIAN
METHOD:PUBLISH
X-ORIGINAL-URL:https://deambulaterre.org
X-WR-CALDESC:Évènements pour Déambulaterre
REFRESH-INTERVAL;VALUE=DURATION:PT1H
X-Robots-Tag:noindex
X-PUBLISHED-TTL:PT1H
BEGIN:VTIMEZONE
TZID:Europe/Paris
BEGIN:DAYLIGHT
TZOFFSETFROM:+0100
TZOFFSETTO:+0200
TZNAME:CEST
DTSTART:20240331T010000
END:DAYLIGHT
BEGIN:STANDARD
TZOFFSETFROM:+0200
TZOFFSETTO:+0100
TZNAME:CET
DTSTART:20241027T010000
END:STANDARD
BEGIN:DAYLIGHT
TZOFFSETFROM:+0100
TZOFFSETTO:+0200
TZNAME:CEST
DTSTART:20250330T010000
END:DAYLIGHT
BEGIN:STANDARD
TZOFFSETFROM:+0200
TZOFFSETTO:+0100
TZNAME:CET
DTSTART:20251026T010000
END:STANDARD
BEGIN:DAYLIGHT
TZOFFSETFROM:+0100
TZOFFSETTO:+0200
TZNAME:CEST
DTSTART:20260329T010000
END:DAYLIGHT
BEGIN:STANDARD
TZOFFSETFROM:+0200
TZOFFSETTO:+0100
TZNAME:CET
DTSTART:20261025T010000
END:STANDARD
END:VTIMEZONE
BEGIN:VEVENT
DTSTART;TZID=Europe/Paris:20250501T100000
DTEND;TZID=Europe/Paris:20250501T130000
DTSTAMP:20260420T032732
CREATED:20250418T075441Z
LAST-MODIFIED:20250418T075702Z
UID:1399-1746093600-1746104400@deambulaterre.org
SUMMARY:1er mai : rassemblement à l'appel de l'Intersyndicale !
DESCRIPTION:A l’appel de la CGT\, FSU\, Solidaire\, la Confédération paysanne\, Rendez-vous à 10h00 à l’Union Locale CGT : 35 rue de la Gare – 56800 PLOERMEL \nEn cette journée internationale de lutte des travailleurs et des travailleuses\, il y aura déambulation ou non selon la foule\, la météo\, et la décision collective\, suivie d’un pot « des revendications » offert par la CGT. \nLes mots d’ordre : Non à la casse sociale\, égalité salariale homme/femme\, sans oublier l’abrogation de la retraite à 64 ans ! \nEn se mobilisant\, on peut faire reculer ce gouvernement fragile sur cette réforme injuste (1 salarié sur 2 n’est déjà plus en emploi après 60 ans) et injustifiée (les caisses de retraites sont\, contrairement au budget de l’État\, très peu déficitaires). Face à leur volonté de privatiser nos retraites en les jouant en bourse par la capitalisation\, défendons notre système par répartition solide et solidaire !
URL:https://deambulaterre.org/event/1er-mai-rassemblement-a-lappel-de-lintersyndicale/
LOCATION:Union Locale CGT\, 35 rue de la gare\, Ploërmel
END:VEVENT
END:VCALENDAR