BEGIN:VCALENDAR
VERSION:2.0
PRODID:-//Déambulaterre - ECPv6.15.20//NONSGML v1.0//EN
CALSCALE:GREGORIAN
METHOD:PUBLISH
X-ORIGINAL-URL:https://deambulaterre.org
X-WR-CALDESC:Évènements pour Déambulaterre
REFRESH-INTERVAL;VALUE=DURATION:PT1H
X-Robots-Tag:noindex
X-PUBLISHED-TTL:PT1H
BEGIN:VTIMEZONE
TZID:Europe/Paris
BEGIN:DAYLIGHT
TZOFFSETFROM:+0100
TZOFFSETTO:+0200
TZNAME:CEST
DTSTART:20240331T010000
END:DAYLIGHT
BEGIN:STANDARD
TZOFFSETFROM:+0200
TZOFFSETTO:+0100
TZNAME:CET
DTSTART:20241027T010000
END:STANDARD
BEGIN:DAYLIGHT
TZOFFSETFROM:+0100
TZOFFSETTO:+0200
TZNAME:CEST
DTSTART:20250330T010000
END:DAYLIGHT
BEGIN:STANDARD
TZOFFSETFROM:+0200
TZOFFSETTO:+0100
TZNAME:CET
DTSTART:20251026T010000
END:STANDARD
BEGIN:DAYLIGHT
TZOFFSETFROM:+0100
TZOFFSETTO:+0200
TZNAME:CEST
DTSTART:20260329T010000
END:DAYLIGHT
BEGIN:STANDARD
TZOFFSETFROM:+0200
TZOFFSETTO:+0100
TZNAME:CET
DTSTART:20261025T010000
END:STANDARD
END:VTIMEZONE
BEGIN:VEVENT
DTSTART;TZID=Europe/Paris:20250506T180000
DTEND;TZID=Europe/Paris:20250506T220000
DTSTAMP:20260420T032721
CREATED:20250314T162427Z
LAST-MODIFIED:20250502T160700Z
UID:1361-1746554400-1746568800@deambulaterre.org
SUMMARY:CONCERT : choeur d'enfants ukrainiens
DESCRIPTION:Venez écouter et soutenir les enfants du choeur Oréli de Kyiv et leur offrir une parenthèse à la guerre…
URL:https://deambulaterre.org/event/concert-choeur-denfants-ukrainiens/
LOCATION:salle des fêtes de Ploërmel\, rue du général Giraud\, Ploermel
END:VEVENT
END:VCALENDAR