BEGIN:VCALENDAR
VERSION:2.0
PRODID:-//Déambulaterre - ECPv6.15.20//NONSGML v1.0//EN
CALSCALE:GREGORIAN
METHOD:PUBLISH
X-WR-CALNAME:Déambulaterre
X-ORIGINAL-URL:https://deambulaterre.org
X-WR-CALDESC:Évènements pour Déambulaterre
REFRESH-INTERVAL;VALUE=DURATION:PT1H
X-Robots-Tag:noindex
X-PUBLISHED-TTL:PT1H
BEGIN:VTIMEZONE
TZID:Europe/Paris
BEGIN:DAYLIGHT
TZOFFSETFROM:+0100
TZOFFSETTO:+0200
TZNAME:CEST
DTSTART:20240331T010000
END:DAYLIGHT
BEGIN:STANDARD
TZOFFSETFROM:+0200
TZOFFSETTO:+0100
TZNAME:CET
DTSTART:20241027T010000
END:STANDARD
BEGIN:DAYLIGHT
TZOFFSETFROM:+0100
TZOFFSETTO:+0200
TZNAME:CEST
DTSTART:20250330T010000
END:DAYLIGHT
BEGIN:STANDARD
TZOFFSETFROM:+0200
TZOFFSETTO:+0100
TZNAME:CET
DTSTART:20251026T010000
END:STANDARD
BEGIN:DAYLIGHT
TZOFFSETFROM:+0100
TZOFFSETTO:+0200
TZNAME:CEST
DTSTART:20260329T010000
END:DAYLIGHT
BEGIN:STANDARD
TZOFFSETFROM:+0200
TZOFFSETTO:+0100
TZNAME:CET
DTSTART:20261025T010000
END:STANDARD
END:VTIMEZONE
BEGIN:VEVENT
DTSTART;TZID=Europe/Paris:20250515T200000
DTEND;TZID=Europe/Paris:20250515T223000
DTSTAMP:20260420T032358
CREATED:20250502T160541Z
LAST-MODIFIED:20250515T155212Z
UID:1430-1747339200-1747348200@deambulaterre.org
SUMMARY:Rencontre-Débat - Agriculture et Agro-alimentaire
DESCRIPTION:Rencontre-Débat le 15 mai 2025\nComité de soutien au Nouveau Front Populaire\nQuatrième Circonscription du Morbihan\n\nAprès le succès de la rencontre-débat sur La démocratie et sur L’autoritarisme\, en présence notamment du député LFI Pierre-Yves Cadalen et du sénateur écologiste Daniel Salmon\, le comité de soutien au Nouveau Front Populaire continue son action. Convaincu de la nécessité de l’union à gauche autant que de la poursuite d’un vrai débat de fond\, il propose d’organiser une rencontre entre des représentant.e.s de syndicats de salarié.e.s et de paysan.ne.s avec des personnalités politiques du Nouveau Front Populaire. Ont répondu favorablement à ce débat :\n\nPour les syndicats de salarié.e.s et paysan.ne.s\n– Un.e représentant.e de la CGT agro-alimentaire\n– Un.e représentant.e de la Confédération Paysanne\n– Un.e représentant de Via Campasina\n\nPour le Nouveau Front Populaire\n– Un.e représentant.e des écologistes\n– Un.e représentant.e du Parti Communiste\n– Un.e représentant.e de La France Insoumise\n\n\nLa rencontre serait organisée de la manière suivante :\n\nPremière partie\nPrise de parole des représentant.e.s syndicaux.cales.\n10 minutes chacun.e.\nPrésentation des principaux enjeux actuels pour l’agriculture et l’industrie agro-alimentaire\nUrgences environnementales et sociales\nRevendications immédiates et en construction\n\nDeuxième partie\nRéaction des représentant.e.s du Nouveau Front Populaire\n10 minutes chacun.e\nQuelles réponses aux enjeux ? Dans les conditions actuelles ? Dans la perspective d’une alternance ? Quels combats à mener et à soutenir ?\n\nTroisième partie\n1 heure-1 heures 30\nEchange avec le public
URL:https://deambulaterre.org/event/rencontre-debat-agriculture-et-agro-alimentaire/
LOCATION:foyer municipal d’Augan\, place de la Charmille\, Augan\, 56800
END:VEVENT
END:VCALENDAR