BEGIN:VCALENDAR
VERSION:2.0
PRODID:-//Déambulaterre - ECPv6.15.20//NONSGML v1.0//EN
CALSCALE:GREGORIAN
METHOD:PUBLISH
X-WR-CALNAME:Déambulaterre
X-ORIGINAL-URL:https://deambulaterre.org
X-WR-CALDESC:Évènements pour Déambulaterre
REFRESH-INTERVAL;VALUE=DURATION:PT1H
X-Robots-Tag:noindex
X-PUBLISHED-TTL:PT1H
BEGIN:VTIMEZONE
TZID:Europe/Paris
BEGIN:DAYLIGHT
TZOFFSETFROM:+0100
TZOFFSETTO:+0200
TZNAME:CEST
DTSTART:20240331T010000
END:DAYLIGHT
BEGIN:STANDARD
TZOFFSETFROM:+0200
TZOFFSETTO:+0100
TZNAME:CET
DTSTART:20241027T010000
END:STANDARD
BEGIN:DAYLIGHT
TZOFFSETFROM:+0100
TZOFFSETTO:+0200
TZNAME:CEST
DTSTART:20250330T010000
END:DAYLIGHT
BEGIN:STANDARD
TZOFFSETFROM:+0200
TZOFFSETTO:+0100
TZNAME:CET
DTSTART:20251026T010000
END:STANDARD
BEGIN:DAYLIGHT
TZOFFSETFROM:+0100
TZOFFSETTO:+0200
TZNAME:CEST
DTSTART:20260329T010000
END:DAYLIGHT
BEGIN:STANDARD
TZOFFSETFROM:+0200
TZOFFSETTO:+0100
TZNAME:CET
DTSTART:20261025T010000
END:STANDARD
END:VTIMEZONE
BEGIN:VEVENT
DTSTART;TZID=Europe/Paris:20250523T170000
DTEND;TZID=Europe/Paris:20250525T170000
DTSTAMP:20260420T032400
CREATED:20250515T051506Z
LAST-MODIFIED:20250515T051506Z
UID:1482-1748019600-1748192400@deambulaterre.org
SUMMARY:Lever les voiles : Desarmer Bollo !
DESCRIPTION:L’événement Lever les Voiles du week-end du 24 et 25 mai aura bien lieu ! Près d’une centaine de bateaux sont déjà inscrits au rassemblement en mer prévu devant l’île du Loc’h aux Glénan et un vaste événement à terre aura lieu aussi\, malgré les pressions administratives. Le village se tiendra donc le samedi 24 mai en sud-Finistère\, et le dimanche 25 mai dans la matinée jusqu’en début d’après-midi\, pour une table-ronde internationaliste\, et un pique-nique chez Bolloré.\n \nPour recevoir les détails sur la navigation en mer\, inscrivez votre bateau via ce formulaire avec une adresse de contact : https://framaforms.org/le-24-mai-levons-les-voiles-contre… \nLe programme à retrouver ici : https://lessoulevementsdelaterre.org/…/communique-en…
URL:https://deambulaterre.org/event/lever-les-voiles-desarmer-bollo/
LOCATION:Sud finistère
END:VEVENT
END:VCALENDAR