BEGIN:VCALENDAR
VERSION:2.0
PRODID:-//Déambulaterre - ECPv6.15.20//NONSGML v1.0//EN
CALSCALE:GREGORIAN
METHOD:PUBLISH
X-ORIGINAL-URL:https://deambulaterre.org
X-WR-CALDESC:Évènements pour Déambulaterre
REFRESH-INTERVAL;VALUE=DURATION:PT1H
X-Robots-Tag:noindex
X-PUBLISHED-TTL:PT1H
BEGIN:VTIMEZONE
TZID:Europe/Paris
BEGIN:DAYLIGHT
TZOFFSETFROM:+0100
TZOFFSETTO:+0200
TZNAME:CEST
DTSTART:20240331T010000
END:DAYLIGHT
BEGIN:STANDARD
TZOFFSETFROM:+0200
TZOFFSETTO:+0100
TZNAME:CET
DTSTART:20241027T010000
END:STANDARD
BEGIN:DAYLIGHT
TZOFFSETFROM:+0100
TZOFFSETTO:+0200
TZNAME:CEST
DTSTART:20250330T010000
END:DAYLIGHT
BEGIN:STANDARD
TZOFFSETFROM:+0200
TZOFFSETTO:+0100
TZNAME:CET
DTSTART:20251026T010000
END:STANDARD
BEGIN:DAYLIGHT
TZOFFSETFROM:+0100
TZOFFSETTO:+0200
TZNAME:CEST
DTSTART:20260329T010000
END:DAYLIGHT
BEGIN:STANDARD
TZOFFSETFROM:+0200
TZOFFSETTO:+0100
TZNAME:CET
DTSTART:20261025T010000
END:STANDARD
END:VTIMEZONE
BEGIN:VEVENT
DTSTART;TZID=Europe/Paris:20250526T180000
DTEND;TZID=Europe/Paris:20250526T200000
DTSTAMP:20260420T021933
CREATED:20250512T183449Z
LAST-MODIFIED:20250512T183532Z
UID:1443-1748282400-1748289600@deambulaterre.org
SUMMARY:Contre la destruction de 4ha de forêt à Beignon
DESCRIPTION:Le 26 mai à 18h se tiendra la première réunion publique à la salle multifonctions de Beignon sur le projet d’agrandissement d’usine à Beignon visant à détruire presque 4ha de forêt\, 12000m2 de zone humide\, et comportant une étude écologique avec des manquements. Ils vont demander une dérogation espèces protégées (avec mesures de compensations). L’opinion publique peut sûrement induire la réponse du préfet. Plus nous serons\, plus nous aurons du poids sur la décision du préfet. Plus on sera à signer plus ça comptera. \nSi certains veulent passer un soir\, écouter le chant de l’Engoulevent qui est sur la parcelle à côté du terrain concerné\, bienvenu  » aux Affolettes chez Mael\, voisin de ces 2 parcelles.\n 
URL:https://deambulaterre.org/event/e-26-mai-a-18h-se-tiendra-la-premiere-reunion-publique-a-la-salle-multifonctions-de-beignon/
LOCATION:salle multifonctions de Beignon.\, Beignon
END:VEVENT
END:VCALENDAR