BEGIN:VCALENDAR
VERSION:2.0
PRODID:-//Déambulaterre - ECPv6.15.20//NONSGML v1.0//EN
CALSCALE:GREGORIAN
METHOD:PUBLISH
X-ORIGINAL-URL:https://deambulaterre.org
X-WR-CALDESC:Évènements pour Déambulaterre
REFRESH-INTERVAL;VALUE=DURATION:PT1H
X-Robots-Tag:noindex
X-PUBLISHED-TTL:PT1H
BEGIN:VTIMEZONE
TZID:Europe/Paris
BEGIN:DAYLIGHT
TZOFFSETFROM:+0100
TZOFFSETTO:+0200
TZNAME:CEST
DTSTART:20240331T010000
END:DAYLIGHT
BEGIN:STANDARD
TZOFFSETFROM:+0200
TZOFFSETTO:+0100
TZNAME:CET
DTSTART:20241027T010000
END:STANDARD
BEGIN:DAYLIGHT
TZOFFSETFROM:+0100
TZOFFSETTO:+0200
TZNAME:CEST
DTSTART:20250330T010000
END:DAYLIGHT
BEGIN:STANDARD
TZOFFSETFROM:+0200
TZOFFSETTO:+0100
TZNAME:CET
DTSTART:20251026T010000
END:STANDARD
BEGIN:DAYLIGHT
TZOFFSETFROM:+0100
TZOFFSETTO:+0200
TZNAME:CEST
DTSTART:20260329T010000
END:DAYLIGHT
BEGIN:STANDARD
TZOFFSETFROM:+0200
TZOFFSETTO:+0100
TZNAME:CET
DTSTART:20261025T010000
END:STANDARD
END:VTIMEZONE
BEGIN:VEVENT
DTSTART;TZID=Europe/Paris:20250922T180000
DTEND;TZID=Europe/Paris:20250922T193000
DTSTAMP:20260419T214901
CREATED:20250917T084007Z
LAST-MODIFIED:20250917T084007Z
UID:1780-1758564000-1758569400@deambulaterre.org
SUMMARY:Manifestation pour un cessez-le-feu total en Palestine
DESCRIPTION:Un génocide ça ne se regarde pas\, ça se combat ! \nRDV le lundi 22 septembre à 18h Place de la mairie à Ploërmel
URL:https://deambulaterre.org/event/manifestation-pour-un-cessez-le-feu-total-en-palestine/
LOCATION:Place de la Mairie à Ploermel\, Place de la mairie\, Ploërmel\, France
ATTACH;FMTTYPE=image/jpeg:https://deambulaterre.org/wp-content/uploads/2025/09/manifPalestine.jpg
END:VEVENT
END:VCALENDAR