BEGIN:VCALENDAR
VERSION:2.0
PRODID:-//Déambulaterre - ECPv6.15.20//NONSGML v1.0//EN
CALSCALE:GREGORIAN
METHOD:PUBLISH
X-ORIGINAL-URL:https://deambulaterre.org
X-WR-CALDESC:Évènements pour Déambulaterre
REFRESH-INTERVAL;VALUE=DURATION:PT1H
X-Robots-Tag:noindex
X-PUBLISHED-TTL:PT1H
BEGIN:VTIMEZONE
TZID:Europe/Paris
BEGIN:DAYLIGHT
TZOFFSETFROM:+0100
TZOFFSETTO:+0200
TZNAME:CEST
DTSTART:20240331T010000
END:DAYLIGHT
BEGIN:STANDARD
TZOFFSETFROM:+0200
TZOFFSETTO:+0100
TZNAME:CET
DTSTART:20241027T010000
END:STANDARD
BEGIN:DAYLIGHT
TZOFFSETFROM:+0100
TZOFFSETTO:+0200
TZNAME:CEST
DTSTART:20250330T010000
END:DAYLIGHT
BEGIN:STANDARD
TZOFFSETFROM:+0200
TZOFFSETTO:+0100
TZNAME:CET
DTSTART:20251026T010000
END:STANDARD
BEGIN:DAYLIGHT
TZOFFSETFROM:+0100
TZOFFSETTO:+0200
TZNAME:CEST
DTSTART:20260329T010000
END:DAYLIGHT
BEGIN:STANDARD
TZOFFSETFROM:+0200
TZOFFSETTO:+0100
TZNAME:CET
DTSTART:20261025T010000
END:STANDARD
END:VTIMEZONE
BEGIN:VEVENT
DTSTART;TZID=Europe/Paris:20251025T143000
DTEND;TZID=Europe/Paris:20251025T190000
DTSTAMP:20260419T202353
CREATED:20251008T212215Z
LAST-MODIFIED:20251008T213149Z
UID:1932-1761402600-1761418800@deambulaterre.org
SUMMARY:Journée de la transition 2025
DESCRIPTION:Samedi 25 octobre à la Fourmilière – Ploermel\, 59a Boulevard Laennec à Ploermel \nAu programme : trois temps d’intervention pour une présentation thématique et des échanges avec le public. \n– A partir de 14h30 : « Conservation de l’abeille noire pour la diversité génétique » par André Maillard de l’association « Au Fil du temps » à Brusvily qui présentera son travail autour de la fabrication de ruche tressée traditionnelle et la conservation de l’abeille noire. \n– A partir de 16 h : Intervention d’un maraîcher agriculture biologique : Benjamin Pickett du Ty Potager à St-Servant. Il expliquera comment il a restauré la qualité de son sol\, qui était très dégradé après avoir été cultivé en agriculture intensive. Il montrera l’intérêt de la biodiversité en partant de son expérience ; \n– A partir de 17 h\, une « Tartine Forum » terminera la journée\, c’est-à-dire un moment d’échange à mi-chemin entre le café du commerce et un « remue-méninges » collectif.\nPour facilité les échanges des petits papiers seront distribués et un crieur public portera leurs mots.\nManger permet de délier les langues\, les tartines (confiture ou miel) seront proposées sur place ; il ne reste plus qu’à venir avec ses idées… \n… et des animations en continues : \n– Démonstration de tressage de ruche ; \n– Atelier animation enfant (à partit de 6 ans) et fabrication d’un hôtel à insectes (où chaque enfant partira avec sa réalisation) avec l’association « Graines d’empathie et compagnie » de Josselin ; \n– Grande GRATIFERIA (espace de gratuité)\nVous déposez ce dont vous n’avez plus besoin. Vous prenez selon vos besoins\, même si vous n’avez rien déposé ; \n– « Install-party » Linux\nPour aller longtemps et sûr\, changer son informatique vers du libre et ouvert (Présentation et installation sur votre matériel). \nLibre participation aux frais \n 
URL:https://deambulaterre.org/event/journees-de-la-transition-2025/
LOCATION:La Fourmilière\, 59a Boulevard Laennec\, Ploërmel\, Morbihan\, 56800
END:VEVENT
END:VCALENDAR