BEGIN:VCALENDAR
VERSION:2.0
PRODID:-//Déambulaterre - ECPv6.15.20//NONSGML v1.0//EN
CALSCALE:GREGORIAN
METHOD:PUBLISH
X-ORIGINAL-URL:https://deambulaterre.org
X-WR-CALDESC:Évènements pour Déambulaterre
REFRESH-INTERVAL;VALUE=DURATION:PT1H
X-Robots-Tag:noindex
X-PUBLISHED-TTL:PT1H
BEGIN:VTIMEZONE
TZID:Europe/Paris
BEGIN:DAYLIGHT
TZOFFSETFROM:+0100
TZOFFSETTO:+0200
TZNAME:CEST
DTSTART:20240331T010000
END:DAYLIGHT
BEGIN:STANDARD
TZOFFSETFROM:+0200
TZOFFSETTO:+0100
TZNAME:CET
DTSTART:20241027T010000
END:STANDARD
BEGIN:DAYLIGHT
TZOFFSETFROM:+0100
TZOFFSETTO:+0200
TZNAME:CEST
DTSTART:20250330T010000
END:DAYLIGHT
BEGIN:STANDARD
TZOFFSETFROM:+0200
TZOFFSETTO:+0100
TZNAME:CET
DTSTART:20251026T010000
END:STANDARD
BEGIN:DAYLIGHT
TZOFFSETFROM:+0100
TZOFFSETTO:+0200
TZNAME:CEST
DTSTART:20260329T010000
END:DAYLIGHT
BEGIN:STANDARD
TZOFFSETFROM:+0200
TZOFFSETTO:+0100
TZNAME:CET
DTSTART:20261025T010000
END:STANDARD
END:VTIMEZONE
BEGIN:VEVENT
DTSTART;TZID=Europe/Paris:20251110T183000
DTEND;TZID=Europe/Paris:20251110T213000
DTSTAMP:20260419T191012
CREATED:20251027T075955Z
LAST-MODIFIED:20251027T075955Z
UID:1990-1762799400-1762810200@deambulaterre.org
SUMMARY:Rencontre-débat du Galais : l'habitat participatif
DESCRIPTION:La monnaie locale Le Galais vous convie à une soirée autour de Cheminâge\, l’habitat participatif du Roc-Saint-André. \nL’occasion de se rencontrer et d’échanger autour d’autres manières d’habiter\, avec les invité·es et toutes les personnes présentes.\n\nRendez-vous vendredi 10 novembre à 18h30 à la Fourmilière (59A boulevard Laënnec\, Ploërmel).\nEntrée gratuite\, soupe locale à prix libre.
URL:https://deambulaterre.org/event/rencontre-debat-du-galais-lhabitat-participatif/
LOCATION:La Fourmilière\, 59a Boulevard Laennec\, Ploërmel\, Morbihan\, 56800
END:VEVENT
END:VCALENDAR