BEGIN:VCALENDAR
VERSION:2.0
PRODID:-//Déambulaterre - ECPv6.15.20//NONSGML v1.0//EN
CALSCALE:GREGORIAN
METHOD:PUBLISH
X-WR-CALNAME:Déambulaterre
X-ORIGINAL-URL:https://deambulaterre.org
X-WR-CALDESC:Évènements pour Déambulaterre
REFRESH-INTERVAL;VALUE=DURATION:PT1H
X-Robots-Tag:noindex
X-PUBLISHED-TTL:PT1H
BEGIN:VTIMEZONE
TZID:Europe/Paris
BEGIN:DAYLIGHT
TZOFFSETFROM:+0100
TZOFFSETTO:+0200
TZNAME:CEST
DTSTART:20250330T010000
END:DAYLIGHT
BEGIN:STANDARD
TZOFFSETFROM:+0200
TZOFFSETTO:+0100
TZNAME:CET
DTSTART:20251026T010000
END:STANDARD
BEGIN:DAYLIGHT
TZOFFSETFROM:+0100
TZOFFSETTO:+0200
TZNAME:CEST
DTSTART:20260329T010000
END:DAYLIGHT
BEGIN:STANDARD
TZOFFSETFROM:+0200
TZOFFSETTO:+0100
TZNAME:CET
DTSTART:20261025T010000
END:STANDARD
BEGIN:DAYLIGHT
TZOFFSETFROM:+0100
TZOFFSETTO:+0200
TZNAME:CEST
DTSTART:20270328T010000
END:DAYLIGHT
BEGIN:STANDARD
TZOFFSETFROM:+0200
TZOFFSETTO:+0100
TZNAME:CET
DTSTART:20271031T010000
END:STANDARD
END:VTIMEZONE
BEGIN:VEVENT
DTSTART;TZID=Europe/Paris:20260210T183000
DTEND;TZID=Europe/Paris:20260210T200000
DTSTAMP:20260419T151750
CREATED:20260130T131128Z
LAST-MODIFIED:20260130T131128Z
UID:2238-1770748200-1770753600@deambulaterre.org
SUMMARY:Que voulons-nous créer ensemble pour le pays de Ploërmel ?
DESCRIPTION:Le Pays de Ploërmel regorge d’énergies collectives qui ne demandent qu’à se déployer davantage pour le bénéfice de tou·tes\, et qui ont besoin pour cela d’une coopération plus forte avec les communes et institutions du territoire. C’est le constat fait par une quarantaine d’habitant·es réuni·es le 10 janvier à La Fourmilière à Ploërmel pour échanger autour de la question « Que voulons-nous construire ensemble pour le Pays de Ploërmel ? » Cette première rencontre a permis de faire émerger des pistes et des propositions\, qui seront approfondies lors de la soirée du 10 février à La Fourmilière. Un retour sur ces premiers échanges est à retrouver sur le site de la monnaie locale Le Galais. Que vous ayez participé ou non à la rencontre du 10 janvier\, vous êtes invité·e à venir partager vos idées pour renforcer la vie collective sur notre territoire. \nRendez-vous mardi 10 février à 18h30 à La Fourmilière (59A boulevard Laënnec) à Ploërmel.
URL:https://deambulaterre.org/event/que-voulons-nous-creer-ensemble-pour-le-pays-de-ploermel-2/
LOCATION:La Fourmilière\, 59a Boulevard Laennec\, Ploërmel\, Morbihan\, 56800
END:VEVENT
BEGIN:VEVENT
DTSTART;TZID=Europe/Paris:20260210T190000
DTEND;TZID=Europe/Paris:20260210T203000
DTSTAMP:20260419T151750
CREATED:20260127T201629Z
LAST-MODIFIED:20260207T183125Z
UID:2233-1770750000-1770755400@deambulaterre.org
SUMMARY:Mobilisation pour la révision du Sage vilaine : protégeons l’eau !
DESCRIPTION:La Confédération paysanne lance un appel à la mobilisation ! \nRdv devant la salle des fêtes de Ploërmel à 19h le 10 février 2026. \nPour comprendre les enjeux\, lisez l’article de la CONF dans Déambulaterre : https://deambulaterre.org/2025/11/04/revision-du-sage-vilaine-votre-avis-compte-pour-proteger-leau/ \nUne soupe chaude est prévue !
URL:https://deambulaterre.org/event/mobilisation-pour-la-revision-du-sage-vilaine-protegeons-leau/
LOCATION:salle des fêtes de Ploërmel\, rue du général Giraud\, Ploermel
END:VEVENT
END:VCALENDAR