BEGIN:VCALENDAR
VERSION:2.0
PRODID:-//Déambulaterre - ECPv6.15.20//NONSGML v1.0//EN
CALSCALE:GREGORIAN
METHOD:PUBLISH
X-ORIGINAL-URL:https://deambulaterre.org
X-WR-CALDESC:Évènements pour Déambulaterre
REFRESH-INTERVAL;VALUE=DURATION:PT1H
X-Robots-Tag:noindex
X-PUBLISHED-TTL:PT1H
BEGIN:VTIMEZONE
TZID:Europe/Paris
BEGIN:DAYLIGHT
TZOFFSETFROM:+0100
TZOFFSETTO:+0200
TZNAME:CEST
DTSTART:20250330T010000
END:DAYLIGHT
BEGIN:STANDARD
TZOFFSETFROM:+0200
TZOFFSETTO:+0100
TZNAME:CET
DTSTART:20251026T010000
END:STANDARD
BEGIN:DAYLIGHT
TZOFFSETFROM:+0100
TZOFFSETTO:+0200
TZNAME:CEST
DTSTART:20260329T010000
END:DAYLIGHT
BEGIN:STANDARD
TZOFFSETFROM:+0200
TZOFFSETTO:+0100
TZNAME:CET
DTSTART:20261025T010000
END:STANDARD
BEGIN:DAYLIGHT
TZOFFSETFROM:+0100
TZOFFSETTO:+0200
TZNAME:CEST
DTSTART:20270328T010000
END:DAYLIGHT
BEGIN:STANDARD
TZOFFSETFROM:+0200
TZOFFSETTO:+0100
TZNAME:CET
DTSTART:20271031T010000
END:STANDARD
END:VTIMEZONE
BEGIN:VEVENT
DTSTART;TZID=Europe/Paris:20260221T160000
DTEND;TZID=Europe/Paris:20260221T180000
DTSTAMP:20260419T152200
CREATED:20260130T131414Z
LAST-MODIFIED:20260130T131414Z
UID:2240-1771689600-1771696800@deambulaterre.org
SUMMARY:Citoyen·nes\, à vos plumes ! Formez-vous au journalisme citoyen !
DESCRIPTION:Citoyen·nes\, à vos plumes ! Samedi 21 février à Pulpe (Malestroit)\, l’association Déambulaterre vous propose une initiation au journalisme citoyen. \nAu programme\, deux ateliers en parallèle de 16 à 18h : \nÉcriture journalistique : savoir choisir ses sources\, vérifier ses infos\, déterminer un angle\, construire un article mais aussi\, raconter une histoire humaine qui donne à voir et à ressentir… \nPhotojournalisme : apprendre à capturer un événement\, une manifestation\, prendre des photos pour la presse\, à partir de l’analyse de photos et de reportages publiés. \nCécile Raimbeau\, reporter indépendante depuis 30 ans\, et Daniel Hérard\, photojournaliste primé\, vous guideront dans ces ateliers. \nUne seconde session sera proposée le 21 mars\, pour celles et ceux qui ne pourraient pas participer cette fois ou souhaiteraient participer aux deux ateliers. \nInscription conseillée : deambulaterre@kaz.bzh
URL:https://deambulaterre.org/event/citoyen%c2%b7nes-a-vos-plumes-formez-vous-au-journalisme-citoyen/
LOCATION:Pulpe\, 13 Fbg Ste Anne\, Malestroit\, 56140
END:VEVENT
END:VCALENDAR