BEGIN:VCALENDAR
VERSION:2.0
PRODID:-//Déambulaterre - ECPv6.15.20//NONSGML v1.0//EN
CALSCALE:GREGORIAN
METHOD:PUBLISH
X-WR-CALNAME:Déambulaterre
X-ORIGINAL-URL:https://deambulaterre.org
X-WR-CALDESC:Évènements pour Déambulaterre
REFRESH-INTERVAL;VALUE=DURATION:PT1H
X-Robots-Tag:noindex
X-PUBLISHED-TTL:PT1H
BEGIN:VTIMEZONE
TZID:UTC
BEGIN:STANDARD
TZOFFSETFROM:+0000
TZOFFSETTO:+0000
TZNAME:UTC
DTSTART:20220101T000000
END:STANDARD
END:VTIMEZONE
BEGIN:VTIMEZONE
TZID:Europe/Paris
BEGIN:DAYLIGHT
TZOFFSETFROM:+0100
TZOFFSETTO:+0200
TZNAME:CEST
DTSTART:20220327T010000
END:DAYLIGHT
BEGIN:STANDARD
TZOFFSETFROM:+0200
TZOFFSETTO:+0100
TZNAME:CET
DTSTART:20221030T010000
END:STANDARD
BEGIN:DAYLIGHT
TZOFFSETFROM:+0100
TZOFFSETTO:+0200
TZNAME:CEST
DTSTART:20230326T010000
END:DAYLIGHT
BEGIN:STANDARD
TZOFFSETFROM:+0200
TZOFFSETTO:+0100
TZNAME:CET
DTSTART:20231029T010000
END:STANDARD
BEGIN:DAYLIGHT
TZOFFSETFROM:+0100
TZOFFSETTO:+0200
TZNAME:CEST
DTSTART:20240331T010000
END:DAYLIGHT
BEGIN:STANDARD
TZOFFSETFROM:+0200
TZOFFSETTO:+0100
TZNAME:CET
DTSTART:20241027T010000
END:STANDARD
END:VTIMEZONE
BEGIN:VEVENT
DTSTART;TZID=UTC:20231116T140000
DTEND;TZID=UTC:20231116T153000
DTSTAMP:20260423T023823
CREATED:20231107T183347Z
LAST-MODIFIED:20231107T183347Z
UID:339-1700143200-1700148600@deambulaterre.org
SUMMARY:Stop aux arrestations arbitraires !
DESCRIPTION:Soutien au secrétaire général de Union Locale CGT de Vannes qui passe en jugement\, arrêté arbitrairement\, menottes aux poignets\,  le 13 avril lors d’une manifestation pacifique.
URL:https://deambulaterre.org/event/stop-aux-arrestations-arbitraires/
LOCATION:Tribunal judiciaire de Vannes\, Place de la République\, Vannes\, Morbihan\, France
END:VEVENT
BEGIN:VEVENT
DTSTART;TZID=Europe/Paris:20231125T110000
DTEND;TZID=Europe/Paris:20231125T130000
DTSTAMP:20260423T023823
CREATED:20231121T193607Z
LAST-MODIFIED:20231121T193752Z
UID:364-1700910000-1700917200@deambulaterre.org
SUMMARY:Rassemblement pour la paix ! (à Ploërmel)
DESCRIPTION:Un nouveau cycle de violences s’est enclenché sur les territoires d’Israël et de Palestine.\nD’abord avec l’horreur des violences des commandos du Hamas\, puis avec la réaction du gouvernement israélien : des bombardements aveugles sur Gaza frappent les populations civiles\, forcent les populations à fuir et empêchent l’aide humanitaire d’entrer. C’est une catastrophe humanitaire\, des innocents\, des enfants\, meurent par milliers.\nL’urgence est d’arrêter le cycle infernal des crimes de guerre\, des tueries et des massacres.\nIl n’y a qu’une solution : cessez-le-feu immédiat\, libération de tous les otages\, fin du blocus et protection des populations civiles.\nUn terme doit être mis aussi\, en Cisjordanie\, à la violence des colons\, appuyés par l’armée d’occupation israélienne\, mettant en péril toute possibilité de paix future.\nLa France et l’Union européenne ont les moyens de faire pression pour en finir avec la surenchère meurtrière\, et pour le retour au respect du droit.\nC’est la seule route vers la paix et la sécurité pour toutes et tous !\nL’oppression est le plus court chemin vers la violence généralisée.\nNous réitérons notre attachement à la liberté d’exprimer la diversité des opinions y compris par le droit de manifester.
URL:https://deambulaterre.org/event/rassemblement-pour-la-paix-a-ploermel/
LOCATION:Place de la Mairie à Ploermel\, Place de la mairie\, Ploërmel\, France
END:VEVENT
BEGIN:VEVENT
DTSTART;TZID=Europe/Paris:20231128T200000
DTEND;TZID=Europe/Paris:20231128T213000
DTSTAMP:20260423T023823
CREATED:20231116T080335Z
LAST-MODIFIED:20231121T194034Z
UID:357-1701201600-1701207000@deambulaterre.org
SUMMARY:Festival ALIMENTERRE – Projection à Josselin
DESCRIPTION:Dans le cadre du festival ALIMENTERRE\, l’associtaion Josselin en Transition présente « Du béton sur nos courgettes »\, mardi 28 novembre à 20h15 au cinéma Beaumanoir. Ce documentaire de 52 minutes aborde l’impact de l’articicialisation des sols. Sa projection sera suivie d’un temps d’échanges. \nRéalisé par Christophe Camoirano et Arnaud Gobin en 2021 \nhttps://www.film-documentaire.fr/4DACTION/w_fiche_film/67900_0 \nParticipation LIBRE
URL:https://deambulaterre.org/event/festival-alimenterre-projection-a-josselin/
LOCATION:Cinema Beaumanoir\, Josselin
ATTACH;FMTTYPE=image/jpeg:https://deambulaterre.org/wp-content/uploads/2023/11/Affiche-du-beton-dans-nos-courgettes.jpg
END:VEVENT
END:VCALENDAR