BEGIN:VCALENDAR
VERSION:2.0
PRODID:-//Déambulaterre - ECPv6.15.20//NONSGML v1.0//EN
CALSCALE:GREGORIAN
METHOD:PUBLISH
X-ORIGINAL-URL:https://deambulaterre.org
X-WR-CALDESC:Évènements pour Déambulaterre
REFRESH-INTERVAL;VALUE=DURATION:PT1H
X-Robots-Tag:noindex
X-PUBLISHED-TTL:PT1H
BEGIN:VTIMEZONE
TZID:Europe/Paris
BEGIN:DAYLIGHT
TZOFFSETFROM:+0100
TZOFFSETTO:+0200
TZNAME:CEST
DTSTART:20230326T010000
END:DAYLIGHT
BEGIN:STANDARD
TZOFFSETFROM:+0200
TZOFFSETTO:+0100
TZNAME:CET
DTSTART:20231029T010000
END:STANDARD
BEGIN:DAYLIGHT
TZOFFSETFROM:+0100
TZOFFSETTO:+0200
TZNAME:CEST
DTSTART:20240331T010000
END:DAYLIGHT
BEGIN:STANDARD
TZOFFSETFROM:+0200
TZOFFSETTO:+0100
TZNAME:CET
DTSTART:20241027T010000
END:STANDARD
BEGIN:DAYLIGHT
TZOFFSETFROM:+0100
TZOFFSETTO:+0200
TZNAME:CEST
DTSTART:20250330T010000
END:DAYLIGHT
BEGIN:STANDARD
TZOFFSETFROM:+0200
TZOFFSETTO:+0100
TZNAME:CET
DTSTART:20251026T010000
END:STANDARD
END:VTIMEZONE
BEGIN:VEVENT
DTSTART;TZID=Europe/Paris:20240113T150000
DTEND;TZID=Europe/Paris:20240113T170000
DTSTAMP:20260422T235310
CREATED:20240112T103940Z
LAST-MODIFIED:20240112T103940Z
UID:640-1705158000-1705165200@deambulaterre.org
SUMMARY:Rassemblement de soutien au peuple palestinien
DESCRIPTION:Samedi 13 janvier à partir de 15H rassemblement Place des Lices à Vannes : La France\, l’Europe\, l’ONU doivent prendre leurs responsabilités. Ne soyons pas complice d’un génocide\, d’un nettoyage ethnique\, de crimes de guerre\, d’une nouvelle Nakba. Faisons le choix de l’Humanité contre la barbarie. Soyons nombreux à clamer notre indignation.
URL:https://deambulaterre.org/event/rassemblement-de-soutien-au-peuple-palestinien/
LOCATION:Place des Lices à Vannes\, Place des lices\, Vannes\, 56000
END:VEVENT
BEGIN:VEVENT
DTSTART;TZID=Europe/Paris:20240127T170000
DTEND;TZID=Europe/Paris:20240128T030000
DTSTAMP:20260422T235310
CREATED:20240112T175202Z
LAST-MODIFIED:20240112T175202Z
UID:643-1706374800-1706410800@deambulaterre.org
SUMMARY:Soirée de soutien au café de la pente
DESCRIPTION:Co-organisé avec l’association des Mignoned de Caringa\, rendez-vous au Palis bleu à Malansac pour passer une journée et soirée de folie !\nPour cette soirée exceptionnelle\, nous aurons 2 têtes d’affiche\, nos chouchous viennent en soutien :\n## Au programme ##\n—————————-\n## 17h (gratuit) Animations\n★ clown (amazing georges)\n★ chorale (aux grées des voix)\n★ batuk\n★ stands associations copaines\n## 20h (15€\, 12€ en prévente) Concerts\n(pas dans l’ordre de passage)\n♬♩Pas d’nom pas d’maison ! ♬♩\nOn ne sait pas combien ils sont\, mais ça sonne !\nhttps://www.pasdnompasdmaison.fr/\nhttps://www.youtube.com/watch?v=O4XUi9ZmHfs\n♬♩Monty Picon ♬♩\nTu connais pas les Monty Picon ?\nhttps://www.youtube.com/watch?v=-9tOvm2VgTs\nhttps://www.youtube.com/user/Montypicon\n♬♩Tchik’it Up ♬♩\nSi tu vois pas ce que ça peux être\, prononce-le à voix haute… en gueulant un peu… tu situes ?\nhttps://www.youtube.com/watch?v=f-igTwzR230
URL:https://deambulaterre.org/event/soiree-de-soutien-au-cafe-de-la-pente/
LOCATION:Palis bleu à Malansac\, rue du stade\, malansac\, 56220
ATTACH;FMTTYPE=image/jpeg:https://deambulaterre.org/wp-content/uploads/2024/01/418930054_859632112828738_485373184569730047_n.jpg
END:VEVENT
BEGIN:VEVENT
DTSTART;TZID=Europe/Paris:20240130T120000
DTEND;TZID=Europe/Paris:20240130T143000
DTSTAMP:20260422T235310
CREATED:20240127T161443Z
LAST-MODIFIED:20240127T161832Z
UID:649-1706616000-1706625000@deambulaterre.org
SUMMARY:Mobilisation pour  des paysannes et paysans nombreux et rémunérés !
DESCRIPTION:A l’appel de la confédération paysanne\, rassemblement mardi 30 janvier 2023 au rond point Francis rousseau à Ploermel à partir de midi ! \nAvec le soutien de Solidaires et la CGT \nNous voulons un revenu digne pour les paysannes et paysans et pour cela nous demandons :\nune loi interdisant tout prix de vente de nos produits en dessous de nos prix de revient\nune application stricte de la loi EGALIM\nla sortie des accords de libre échange et l’arrêt immédiat des négociations sur les accords en cours\nToutefois\, nous ne demandons pas la suppression de normes sans limitations. Nous acceptons des normes sociales\, environnementales et sanitaires cohérentes avec les enjeux actuels\, que\npersonne ne peut nier. \n 
URL:https://deambulaterre.org/event/mobilisation-pour-des-paysannes-et-paysans-nombreux-et-remuneres/
ATTACH;FMTTYPE=image/jpeg:https://deambulaterre.org/wp-content/uploads/2024/01/FB_IMG_1706282010808.jpg
END:VEVENT
END:VCALENDAR