BEGIN:VCALENDAR
VERSION:2.0
PRODID:-//Déambulaterre - ECPv6.15.20//NONSGML v1.0//EN
CALSCALE:GREGORIAN
METHOD:PUBLISH
X-WR-CALNAME:Déambulaterre
X-ORIGINAL-URL:https://deambulaterre.org
X-WR-CALDESC:Évènements pour Déambulaterre
REFRESH-INTERVAL;VALUE=DURATION:PT1H
X-Robots-Tag:noindex
X-PUBLISHED-TTL:PT1H
BEGIN:VTIMEZONE
TZID:Europe/Paris
BEGIN:DAYLIGHT
TZOFFSETFROM:+0100
TZOFFSETTO:+0200
TZNAME:CEST
DTSTART:20230326T010000
END:DAYLIGHT
BEGIN:STANDARD
TZOFFSETFROM:+0200
TZOFFSETTO:+0100
TZNAME:CET
DTSTART:20231029T010000
END:STANDARD
BEGIN:DAYLIGHT
TZOFFSETFROM:+0100
TZOFFSETTO:+0200
TZNAME:CEST
DTSTART:20240331T010000
END:DAYLIGHT
BEGIN:STANDARD
TZOFFSETFROM:+0200
TZOFFSETTO:+0100
TZNAME:CET
DTSTART:20241027T010000
END:STANDARD
BEGIN:DAYLIGHT
TZOFFSETFROM:+0100
TZOFFSETTO:+0200
TZNAME:CEST
DTSTART:20250330T010000
END:DAYLIGHT
BEGIN:STANDARD
TZOFFSETFROM:+0200
TZOFFSETTO:+0100
TZNAME:CET
DTSTART:20251026T010000
END:STANDARD
END:VTIMEZONE
BEGIN:VEVENT
DTSTART;VALUE=DATE:20240202
DTEND;VALUE=DATE:20240204
DTSTAMP:20260422T222424
CREATED:20240112T103417Z
LAST-MODIFIED:20240112T103417Z
UID:637-1706832000-1707004799@deambulaterre.org
SUMMARY:Forum social Local du Morbihan 2024
DESCRIPTION:La 15e édition du FSL56 aura lieu les vendredi 2 et samedi 3 février 2024 à Séné. \nUn chouette programme ! A télécharger sur le site du FSL : https://fsl56.org/
URL:https://deambulaterre.org/event/forum-social-local-du-morbihan-2024/
LOCATION:séné\, 56
END:VEVENT
BEGIN:VEVENT
DTSTART;TZID=Europe/Paris:20240224T143000
DTEND;TZID=Europe/Paris:20240224T170000
DTSTAMP:20260422T222424
CREATED:20240221T195419Z
LAST-MODIFIED:20240221T195451Z
UID:738-1708785000-1708794000@deambulaterre.org
SUMMARY:Manifestation des agriculteurs bio à Ploërmel
DESCRIPTION:En partenariat avec la Fédération nationale d’agriculture biologique\, les agriculteurs en Bio du pays de Ploërmel donnent rendez-vous samedi 24 février 2024 pour une déambulation en famille à la zone commerciale du Lac (parking du Leclerc). Les familles avec leurs enfants et leurs tracteurs à pédales sont bienvenus\, poussettes\, trottinettes\, vélos\, etc. Un rendez-vous pour faire ensemble du bruit autour de la santé\, l’environnement\, le revenu des paysans\, l’inflation\, ayant pour thème  Avec le bio\, reprenons le pouvoir sur notre alimentation ! 
URL:https://deambulaterre.org/event/manifestation-des-agriculteurs-bio-a-ploermel/
LOCATION:parking Leclerc Ploermel
END:VEVENT
END:VCALENDAR