BEGIN:VCALENDAR
VERSION:2.0
PRODID:-//Déambulaterre - ECPv6.15.20//NONSGML v1.0//EN
CALSCALE:GREGORIAN
METHOD:PUBLISH
X-WR-CALNAME:Déambulaterre
X-ORIGINAL-URL:https://deambulaterre.org
X-WR-CALDESC:Évènements pour Déambulaterre
REFRESH-INTERVAL;VALUE=DURATION:PT1H
X-Robots-Tag:noindex
X-PUBLISHED-TTL:PT1H
BEGIN:VTIMEZONE
TZID:Europe/Paris
BEGIN:DAYLIGHT
TZOFFSETFROM:+0100
TZOFFSETTO:+0200
TZNAME:CEST
DTSTART:20230326T010000
END:DAYLIGHT
BEGIN:STANDARD
TZOFFSETFROM:+0200
TZOFFSETTO:+0100
TZNAME:CET
DTSTART:20231029T010000
END:STANDARD
BEGIN:DAYLIGHT
TZOFFSETFROM:+0100
TZOFFSETTO:+0200
TZNAME:CEST
DTSTART:20240331T010000
END:DAYLIGHT
BEGIN:STANDARD
TZOFFSETFROM:+0200
TZOFFSETTO:+0100
TZNAME:CET
DTSTART:20241027T010000
END:STANDARD
BEGIN:DAYLIGHT
TZOFFSETFROM:+0100
TZOFFSETTO:+0200
TZNAME:CEST
DTSTART:20250330T010000
END:DAYLIGHT
BEGIN:STANDARD
TZOFFSETFROM:+0200
TZOFFSETTO:+0100
TZNAME:CET
DTSTART:20251026T010000
END:STANDARD
END:VTIMEZONE
BEGIN:VEVENT
DTSTART;TZID=Europe/Paris:20240928T140000
DTEND;TZID=Europe/Paris:20240929T020000
DTSTAMP:20260422T122444
CREATED:20240924T085256Z
LAST-MODIFIED:20240924T085642Z
UID:1095-1727532000-1727575200@deambulaterre.org
SUMMARY:Soutien au Champ Commun : comment se poursuit l'aventure ?
DESCRIPTION:Samedi 28 septembre c’est 𝗼𝗽𝗲́𝗿𝗮𝘁𝗶𝗼𝗻 𝗱𝗲 𝘀𝗼𝘂𝘁𝗶𝗲𝗻 à la coopérative ! Une journée pour se retrouver\, 𝗱𝗶𝘀𝗰𝘂𝘁𝗲𝗿 𝗱𝗲𝘀 𝗽𝗿𝗼𝗯𝗹𝗲́𝗺𝗮𝘁𝗶𝗾𝘂𝗲𝘀\, mieux comprendre le fonctionnement coopératif\, 𝗽𝗮𝗿𝘁𝗮𝗴𝗲𝗿 𝗹𝗲𝘀 𝗲𝗻𝗷𝗲𝘂𝘅 𝗮𝗰𝘁𝘂𝗲𝗹𝘀 et 𝘁𝗿𝗼𝘂𝘃𝗲𝗿 𝗱𝗲𝘀 𝘀𝗼𝗹𝘂𝘁𝗶𝗼𝗻𝘀\, 𝗲𝗻𝘀𝗲𝗺𝗯𝗹𝗲\, pour passer le cap. \n\nClôture de cette journée de réflexions avec une 𝘀𝗼𝗶𝗿𝗲́𝗲 𝗳𝗲𝘀𝘁𝗶𝘃𝗲 𝗲𝘁 𝘂𝗻 𝗴𝗿𝗮𝗻𝗱 𝗯𝘂𝗳𝗳𝗲𝘁 ! \nAu programme : 𝟭𝟰𝗵𝟬𝟬-𝟭𝟳𝗵𝟬𝟬: 𝗥𝗲𝗻𝗰𝗼𝗻𝘁𝗿𝗲 𝗰𝗼𝗼𝗽𝗲́𝗿𝗮𝘁𝗶𝘃𝗲 Présentation du fonctionnement de la coopérative\, ses enjeux et besoins actuels\, ainsi que les diverses façons de la soutenir. 𝟭𝟳𝗵𝟯𝟬-𝟭𝟵𝗵: 𝗔𝗽𝗲́𝗿𝗼 𝗮𝗻𝗶𝗺𝗲́ Soirée animée par le groupe de musiciens locaux JAMALGAM Bœuf musical collectif\, soirée festive jusqu’à 2h ! \n\n𝟮𝟬𝗵: 𝗕𝘂𝗳𝗳𝗲𝘁 𝗳𝗲𝘀𝘁𝗶𝗳 [Apéro – Entrée – Plat – Dessert ] 20€ adultes / 10€ enfants Plats : cochon grillé & potatoes // Option végétarienne : légumes panés & salades composées Sur réservation au 02-97-93-48-51 ou estaminet@lechampcommun.fr
URL:https://deambulaterre.org/event/soutien-au-champ-commun-comment-se-poursuit-laventure/
LOCATION:Le Champ Commun\, Augan\, Morbihan
ATTACH;FMTTYPE=image/jpeg:https://deambulaterre.org/wp-content/uploads/2024/09/Estaminet-photo.jpg
END:VEVENT
END:VCALENDAR