BEGIN:VCALENDAR
VERSION:2.0
PRODID:-//Déambulaterre - ECPv6.15.20//NONSGML v1.0//EN
CALSCALE:GREGORIAN
METHOD:PUBLISH
X-WR-CALNAME:Déambulaterre
X-ORIGINAL-URL:https://deambulaterre.org
X-WR-CALDESC:Évènements pour Déambulaterre
REFRESH-INTERVAL;VALUE=DURATION:PT1H
X-Robots-Tag:noindex
X-PUBLISHED-TTL:PT1H
BEGIN:VTIMEZONE
TZID:Europe/Paris
BEGIN:DAYLIGHT
TZOFFSETFROM:+0100
TZOFFSETTO:+0200
TZNAME:CEST
DTSTART:20230326T010000
END:DAYLIGHT
BEGIN:STANDARD
TZOFFSETFROM:+0200
TZOFFSETTO:+0100
TZNAME:CET
DTSTART:20231029T010000
END:STANDARD
BEGIN:DAYLIGHT
TZOFFSETFROM:+0100
TZOFFSETTO:+0200
TZNAME:CEST
DTSTART:20240331T010000
END:DAYLIGHT
BEGIN:STANDARD
TZOFFSETFROM:+0200
TZOFFSETTO:+0100
TZNAME:CET
DTSTART:20241027T010000
END:STANDARD
BEGIN:DAYLIGHT
TZOFFSETFROM:+0100
TZOFFSETTO:+0200
TZNAME:CEST
DTSTART:20250330T010000
END:DAYLIGHT
BEGIN:STANDARD
TZOFFSETFROM:+0200
TZOFFSETTO:+0100
TZNAME:CET
DTSTART:20251026T010000
END:STANDARD
END:VTIMEZONE
BEGIN:VEVENT
DTSTART;TZID=Europe/Paris:20241023T203000
DTEND;TZID=Europe/Paris:20241023T223000
DTSTAMP:20260422T110107
CREATED:20241006T160351Z
LAST-MODIFIED:20241006T160351Z
UID:1141-1729715400-1729722600@deambulaterre.org
SUMMARY:Docu : La théorie du boxeur
DESCRIPTION:Documentaire de Nathanaël Coste (2023 – 97′) \nDans le cadre du festival AlimenTERRE https://www.alimenterre.org/josselin-en-transition-0 \nLes excès du climat frappent de plus en plus durement le monde agricole. Ce documentaire questionne sans a priori agriculteurs bio ou conventionnels pour qui le temps de l’adaptation a déjà commencé et chercheurs pour repenser notre façon de produire et construire la résilience alimentaire d’un territoire. \nIl traite de façon complète et qualitative les enjeux du dérèglement climatiques et ses conséquences.Participation libre
URL:https://deambulaterre.org/event/docu-la-theorie-du-boxeur/
LOCATION:Le Beaumanoir\, Rue des Douves du Lion d'Or\, Josselin\, 56120
ATTACH;FMTTYPE=image/jpeg:https://deambulaterre.org/wp-content/uploads/2024/10/20241023-jet.jpg
END:VEVENT
BEGIN:VEVENT
DTSTART;TZID=Europe/Paris:20241024T193000
DTEND;TZID=Europe/Paris:20241024T223000
DTSTAMP:20260422T110107
CREATED:20241021T162511Z
LAST-MODIFIED:20241021T162511Z
UID:1165-1729798200-1729809000@deambulaterre.org
SUMMARY:Film –Demain\, la vallée
DESCRIPTION:Le Cycle Rural Eco Citoyen (CREC) se termine le jeudi 24 octobre\, à 19h30\, au Cinélac\, à Ploërmel.\n\n\n\n\n\n\n\nJeudi 24 octobre au Cinélac \n19h30 : Ciné-soupe\nApportez bol et couverts pour la dégustation d’une soupe bio et locale préparée par Polen\n\n\n\n\n\n\n20h : Film –Demain\, la vallée\, réalisateur Jérôme Prudent\, 2024 (63 minutes)\nFace au changement climatique\, des citoyens et citoyennes\, des agriculteurs de différents secteurs\, accordent leurs voix pour décider ensemble des transformations justes de l’usage de leurs terres.\n\n\n\n\n\n\n21h15 :\nEchange après le film avec les chercheurs du projet PAGAIE : Une réflexion sur la manière dont les paysages seront affectés\, offre une opportunité d’engager les acteurs des territoire (élus\, gestionnaires\, entreprises\, habitants…) vers une gestion plus sobre de l’eau.
URL:https://deambulaterre.org/event/film-demain-la-vallee/
LOCATION:Cinélac\, Ploërmel\, 56
END:VEVENT
BEGIN:VEVENT
DTSTART;TZID=Europe/Paris:20241026T143000
DTEND;TZID=Europe/Paris:20241026T180000
DTSTAMP:20260422T110107
CREATED:20241006T161519Z
LAST-MODIFIED:20241006T161519Z
UID:1146-1729953000-1729965600@deambulaterre.org
SUMMARY:Josselin en Transition : « L’eau\, le climat et nous »
DESCRIPTION:14 h 30 : Atelier animation enfant fresque collective et coopérative (à partit de 6 ans – Par l’association « Graines d’empathie et compagnie »)\n15 h : « L’or bleu – l’or vert : les larmes d’une vallée » (Documentaire d’ Anaïs Mariotti -2023 -30′ -vostf) Au Chili\, l’avocat domine un paysage devenu aride…\n16 h : Conférence : « Conséquences des évènements de sécheresses sur les activités humaines et les écosystèmes » Les enjeux de l’eau en Bretagne présenté par Gérard Gruau\, directeur de recherche au CNRS\n\nSinon en continue :\nGrande GRATIFERIA (espace de gratuité) – Vous déposez ce dont vous n’avez plus besoin. Vous prenez selon vos besoiRue du Pont-Mareucns\, même si vous n’avez rien déposé.\nInstal party LINUX\,\nRepar-vélo…
URL:https://deambulaterre.org/event/josselin-en-transition-leau-le-climat-et-nous/
LOCATION:Centre culturel L’écusson\, Rue du Pont-Mareuc\, josselin\, 56120
ATTACH;FMTTYPE=image/png:https://deambulaterre.org/wp-content/uploads/2024/10/unnamed.png
END:VEVENT
BEGIN:VEVENT
DTSTART;TZID=Europe/Paris:20241030T193000
DTEND;TZID=Europe/Paris:20241030T220000
DTSTAMP:20260422T110107
CREATED:20241002T183918Z
LAST-MODIFIED:20241002T183918Z
UID:1116-1730316600-1730325600@deambulaterre.org
SUMMARY:Blablas de l’ESS : Du bon\, du bio et du local !
DESCRIPTION:Du bon\, du bio et du local au menu : regards croisés sur les enjeux de la restauration collective.\nMercredi 30 octobre à 19h30\, rendez-vous à l’Estaminet du Champ Commun pour un café-débat autour de la restauration collective : cantines scolaires\, administratives\, d’entreprises…\nQuels moyens d’agir pour une restauration et plus largement une alimentation bio\, de qualité et respectant les producteurs ?\nDepuis les appels d’offres jusqu’aux contraintes et possibilités concrètes des professionnels\, que nous soyons producteurs\, élus\, cuisiniers\, parents d’élèves ou simples citoyens\, nous sommes toutes et tous concerné·es et disposons de moyens pour nous mobiliser.\nLes clefs pour faire ensemble avec le GAB 56 !
URL:https://deambulaterre.org/event/blablas-de-less-du-bon-du-bio-et-du-local/
LOCATION:Champ Commun\, Augan\, Augan\, 56800
ATTACH;FMTTYPE=image/png:https://deambulaterre.org/wp-content/uploads/2024/10/Capture-decran-du-2024-10-02-20-34-38.png
END:VEVENT
END:VCALENDAR