BEGIN:VCALENDAR
VERSION:2.0
PRODID:-//Déambulaterre - ECPv6.15.20//NONSGML v1.0//EN
CALSCALE:GREGORIAN
METHOD:PUBLISH
X-ORIGINAL-URL:https://deambulaterre.org
X-WR-CALDESC:Évènements pour Déambulaterre
REFRESH-INTERVAL;VALUE=DURATION:PT1H
X-Robots-Tag:noindex
X-PUBLISHED-TTL:PT1H
BEGIN:VTIMEZONE
TZID:Europe/Paris
BEGIN:DAYLIGHT
TZOFFSETFROM:+0100
TZOFFSETTO:+0200
TZNAME:CEST
DTSTART:20230326T010000
END:DAYLIGHT
BEGIN:STANDARD
TZOFFSETFROM:+0200
TZOFFSETTO:+0100
TZNAME:CET
DTSTART:20231029T010000
END:STANDARD
BEGIN:DAYLIGHT
TZOFFSETFROM:+0100
TZOFFSETTO:+0200
TZNAME:CEST
DTSTART:20240331T010000
END:DAYLIGHT
BEGIN:STANDARD
TZOFFSETFROM:+0200
TZOFFSETTO:+0100
TZNAME:CET
DTSTART:20241027T010000
END:STANDARD
BEGIN:DAYLIGHT
TZOFFSETFROM:+0100
TZOFFSETTO:+0200
TZNAME:CEST
DTSTART:20250330T010000
END:DAYLIGHT
BEGIN:STANDARD
TZOFFSETFROM:+0200
TZOFFSETTO:+0100
TZNAME:CET
DTSTART:20251026T010000
END:STANDARD
END:VTIMEZONE
BEGIN:VEVENT
DTSTART;TZID=Europe/Paris:20241108T180000
DTEND;TZID=Europe/Paris:20241108T210000
DTSTAMP:20260420T100613
CREATED:20241104T092640Z
LAST-MODIFIED:20241104T092809Z
UID:1202-1731088800-1731099600@deambulaterre.org
SUMMARY:Laboratoire théâtre ouvert
DESCRIPTION:Faire théâtre de notre actualité\, de nos révoltes\, de nos peurs\, de nos désirs\, de nos espoirs. C’est ce qu’ambitionne ce laboratoire ouvert.\nSans ou avec pratique de théâtre\, avec ses idées\, ses questions\, sans solution mais avec l’envie d’explorer\, d’élaborer\, de partager ensemble nos impuissances pour les transformer et se mettre en action.\nÊtre acteur de notre avenir.\nNos supports seront des textes de théâtre\, des articles de presse\, des témoignages\, des photos…\nDonnons des couleurs à l’avenir !\nContact : laboratoire_theatre_ouvert@kaz.bzh\nAlain Rault 06 86 40 72 81
URL:https://deambulaterre.org/event/laboratoire-theatre-ouvert/
LOCATION:Salle de la Rochette\, Josselin
END:VEVENT
BEGIN:VEVENT
DTSTART;TZID=Europe/Paris:20241116T100000
DTEND;TZID=Europe/Paris:20241116T180000
DTSTAMP:20260420T100613
CREATED:20241108T125103Z
LAST-MODIFIED:20241108T125103Z
UID:1215-1731751200-1731780000@deambulaterre.org
SUMMARY:Les pieds dans la Fourmilière !
DESCRIPTION:Enduit terre\, ateliers créatifs\, jeux\, concerts\, petite restauration. \nEntrée libre. Bar associatif.
URL:https://deambulaterre.org/event/les-pieds-dans-la-fourmiliere/
LOCATION:La Fourmilière\, 59a Boulevard Laennec\, Ploërmel\, Morbihan\, 56800
END:VEVENT
BEGIN:VEVENT
DTSTART;TZID=Europe/Paris:20241127T193000
DTEND;TZID=Europe/Paris:20241127T213000
DTSTAMP:20260420T100613
CREATED:20241112T161356Z
LAST-MODIFIED:20241112T161406Z
UID:1221-1732735800-1732743000@deambulaterre.org
SUMMARY:Blablas de l'ESS : rencontre avec Nora Bouazzouni\, autrice de "Manger les riches" et "Steaksisme"
DESCRIPTION:Rencontre avec Nora Bouazzouni\, autrice de « Manger les riches »\, « Steaksisme » et « Faiminisme ». Genre et alimentation au programme ! \nAu bar du Champ Commun  mercredi 27 novembre 2024 à 19h30. \nEntrée libre. Buvette et soupe.
URL:https://deambulaterre.org/event/blablas-de-less-rencontre-avec-nora-bouazzouni-autrice-de-manger-les-riches-et-steaksisme/
LOCATION:Champ Commun\, Augan\, Augan\, 56800
END:VEVENT
END:VCALENDAR