BEGIN:VCALENDAR
VERSION:2.0
PRODID:-//Déambulaterre - ECPv6.15.20//NONSGML v1.0//EN
CALSCALE:GREGORIAN
METHOD:PUBLISH
X-WR-CALNAME:Déambulaterre
X-ORIGINAL-URL:https://deambulaterre.org
X-WR-CALDESC:Évènements pour Déambulaterre
REFRESH-INTERVAL;VALUE=DURATION:PT1H
X-Robots-Tag:noindex
X-PUBLISHED-TTL:PT1H
BEGIN:VTIMEZONE
TZID:Europe/Paris
BEGIN:DAYLIGHT
TZOFFSETFROM:+0100
TZOFFSETTO:+0200
TZNAME:CEST
DTSTART:20240331T010000
END:DAYLIGHT
BEGIN:STANDARD
TZOFFSETFROM:+0200
TZOFFSETTO:+0100
TZNAME:CET
DTSTART:20241027T010000
END:STANDARD
BEGIN:DAYLIGHT
TZOFFSETFROM:+0100
TZOFFSETTO:+0200
TZNAME:CEST
DTSTART:20250330T010000
END:DAYLIGHT
BEGIN:STANDARD
TZOFFSETFROM:+0200
TZOFFSETTO:+0100
TZNAME:CET
DTSTART:20251026T010000
END:STANDARD
BEGIN:DAYLIGHT
TZOFFSETFROM:+0100
TZOFFSETTO:+0200
TZNAME:CEST
DTSTART:20260329T010000
END:DAYLIGHT
BEGIN:STANDARD
TZOFFSETFROM:+0200
TZOFFSETTO:+0100
TZNAME:CET
DTSTART:20261025T010000
END:STANDARD
END:VTIMEZONE
BEGIN:VEVENT
DTSTART;TZID=Europe/Paris:20250109T183000
DTEND;TZID=Europe/Paris:20250109T223000
DTSTAMP:20260420T070750
CREATED:20250108T170435Z
LAST-MODIFIED:20250108T170435Z
UID:1237-1736447400-1736461800@deambulaterre.org
SUMMARY:Débat : Expériences de coopératives sur le territoire
DESCRIPTION:Vous voulez mieux comprendre le fonctionnement d’une coopérative? Mesurer les contraintes que la coopérative représente\, ses avantages\, les bénéfices pour les salariés\, pour les associés\, pour le territoire ? Vous voulez savoir pourquoi il y en a aussi peu dans le Pays de Ploërmel ? \nLe Champ Commun et la Grange aux livres partageront leur expérience et répondront à vos questions. \nRencontre organisée par Le Galais 
URL:https://deambulaterre.org/event/debat-experiences-de-cooperatives-sur-le-territoire/
LOCATION:La Fourmilière\, 59a Boulevard Laennec\, Ploërmel\, Morbihan\, 56800
END:VEVENT
BEGIN:VEVENT
DTSTART;TZID=Europe/Paris:20250125T090000
DTEND;TZID=Europe/Paris:20250125T103000
DTSTAMP:20260420T070750
CREATED:20250122T134845Z
LAST-MODIFIED:20250122T135035Z
UID:1265-1737795600-1737801000@deambulaterre.org
SUMMARY:Rassemblement pour le maintien du poste de principal adjoint du collège Beaumanoir
DESCRIPTION:Parents d’élèves\, enseignant.e.s\, citoyen.ne.s… elles et ils s’opposent à la suppression du poste de principal adjoint du collège Beaumanoir de Ploermel… \nUn appel à se rassembler Place de la mairie\, samedi 25 janvier 2025 dès 9h est lancé. \nUne pétition en ligne a déjà récolté plus de 700 signatures : https://www.change.org/p/mobilisation-contre-la-suppression-du-poste-de-principal-adjoint-coll%C3%A8ge-ploermel
URL:https://deambulaterre.org/event/rassemblement-pour-le-maintien-du-poste-de-principal-adjoint-du-college-beaumanoir/
LOCATION:Place de la mairie\, Ploermel
ATTACH;FMTTYPE=image/jpeg:https://deambulaterre.org/wp-content/uploads/2025/01/IMG-20250114-WA0000.jpg
END:VEVENT
BEGIN:VEVENT
DTSTART;TZID=Europe/Paris:20250125T183000
DTEND;TZID=Europe/Paris:20250125T223000
DTSTAMP:20260420T070750
CREATED:20250108T165422Z
LAST-MODIFIED:20250108T165422Z
UID:1231-1737829800-1737844200@deambulaterre.org
SUMMARY:Pizza forum : on discute en mangeant !
DESCRIPTION:Venez discuter et manger dans une ambiance détendue et conviviale animée par Laurent VOITURIN \nLe principe d’une pizza forum : \n\nnous venons avec des pizzas\nvous venez avec vos idées\n\nLa contribution pizzariale : \n\nMangez selon vos besoins !\nDonner selon vos moyens !
URL:https://deambulaterre.org/event/pizza-forum-on-discute-en-mangeant/
LOCATION:salle des fêtes de Ploërmel\, rue du général Giraud\, Ploermel
ATTACH;FMTTYPE=image/jpeg:https://deambulaterre.org/wp-content/uploads/2025/01/Affiche-Pizza-Forum-Gourhel.jpg
END:VEVENT
BEGIN:VEVENT
DTSTART;TZID=Europe/Paris:20250126T080000
DTEND;TZID=Europe/Paris:20250208T170000
DTSTAMP:20260420T070750
CREATED:20250122T135735Z
LAST-MODIFIED:20250122T135735Z
UID:1271-1737878400-1739034000@deambulaterre.org
SUMMARY:Forum social du Morbihan 2025 : pour un autre monde !
DESCRIPTION:Le forum social local 2025 « Pour un autre monde » se tiendra du 26 janvier au 8 février à Séné\, Baud\, Vannes et Auray. \nDe nombreux stands associatifs\, ateliers\, films\, spectacles\, conférences\, débats sont organisés autour de la souveraineté alimentaire\, de la transition écologique\, de la désobéissance civile et des migrations notamment. \nTéléchargez le programme ICI : https://fsl56.org/_media/2025/FSL-2025-programme.pdf
URL:https://deambulaterre.org/event/forum-social-du-morbihan-2025-pour-un-autre-monde/
LOCATION:Mobihan
END:VEVENT
END:VCALENDAR