BEGIN:VCALENDAR
VERSION:2.0
PRODID:-//Déambulaterre - ECPv6.15.20//NONSGML v1.0//EN
CALSCALE:GREGORIAN
METHOD:PUBLISH
X-ORIGINAL-URL:https://deambulaterre.org
X-WR-CALDESC:Évènements pour Déambulaterre
REFRESH-INTERVAL;VALUE=DURATION:PT1H
X-Robots-Tag:noindex
X-PUBLISHED-TTL:PT1H
BEGIN:VTIMEZONE
TZID:Europe/Paris
BEGIN:DAYLIGHT
TZOFFSETFROM:+0100
TZOFFSETTO:+0200
TZNAME:CEST
DTSTART:20240331T010000
END:DAYLIGHT
BEGIN:STANDARD
TZOFFSETFROM:+0200
TZOFFSETTO:+0100
TZNAME:CET
DTSTART:20241027T010000
END:STANDARD
BEGIN:DAYLIGHT
TZOFFSETFROM:+0100
TZOFFSETTO:+0200
TZNAME:CEST
DTSTART:20250330T010000
END:DAYLIGHT
BEGIN:STANDARD
TZOFFSETFROM:+0200
TZOFFSETTO:+0100
TZNAME:CET
DTSTART:20251026T010000
END:STANDARD
BEGIN:DAYLIGHT
TZOFFSETFROM:+0100
TZOFFSETTO:+0200
TZNAME:CEST
DTSTART:20260329T010000
END:DAYLIGHT
BEGIN:STANDARD
TZOFFSETFROM:+0200
TZOFFSETTO:+0100
TZNAME:CET
DTSTART:20261025T010000
END:STANDARD
END:VTIMEZONE
BEGIN:VEVENT
DTSTART;TZID=Europe/Paris:20250126T080000
DTEND;TZID=Europe/Paris:20250208T170000
DTSTAMP:20260420T055639
CREATED:20250122T135735Z
LAST-MODIFIED:20250122T135735Z
UID:1271-1737878400-1739034000@deambulaterre.org
SUMMARY:Forum social du Morbihan 2025 : pour un autre monde !
DESCRIPTION:Le forum social local 2025 « Pour un autre monde » se tiendra du 26 janvier au 8 février à Séné\, Baud\, Vannes et Auray. \nDe nombreux stands associatifs\, ateliers\, films\, spectacles\, conférences\, débats sont organisés autour de la souveraineté alimentaire\, de la transition écologique\, de la désobéissance civile et des migrations notamment. \nTéléchargez le programme ICI : https://fsl56.org/_media/2025/FSL-2025-programme.pdf
URL:https://deambulaterre.org/event/forum-social-du-morbihan-2025-pour-un-autre-monde/
LOCATION:Mobihan
END:VEVENT
BEGIN:VEVENT
DTSTART;TZID=Europe/Paris:20250208T110000
DTEND;TZID=Europe/Paris:20250208T130000
DTSTAMP:20260420T055639
CREATED:20250122T133745Z
LAST-MODIFIED:20250122T133745Z
UID:1261-1739012400-1739019600@deambulaterre.org
SUMMARY:Rassemblement contre les politiques frontalières
DESCRIPTION:À l’approche de la journée mondiale de lutte contre le régime de mort\naux frontières et pour exiger la vérité\, la justice et la réparation\npour les victimes de la migration et leurs famille\, l’équipe rennaise\nd’AlarmPhone souhaite organiser cette année un moment de rencontre\,\nd’hommage\, de partage et de revendications. \nNous vous invitons à vous joindre à nous le samedi 8 février à 11h sur\nla Place sainte Anne à Rennes afin de partager un moment dédié aux\ntémoignages pour donner voix\, au silence pour rendre hommage et au bruit\npour dire notre présence\, notre colère\, notre force.\nPour dire publiquement notre tristesse et notre colère contre les\npolitiques frontalières.\nPour se souvenir de toute les victimes de ces politiques de morts.\nPour ne pas oublier.\nParce qu’on ne veut pas s’habituer !\nParce qu’on savait. \nAvec tout notre soutien et notre solidarité\, avec amour et rage.\nLiberté de mouvement pour toutes et tous!
URL:https://deambulaterre.org/event/rassemblement-contre-les-politiques-frontalieres/
LOCATION:place Sainte Anne\, Rennes
END:VEVENT
BEGIN:VEVENT
DTSTART;TZID=Europe/Paris:20250219T193000
DTEND;TZID=Europe/Paris:20250219T223000
DTSTAMP:20260420T055639
CREATED:20250106T114647Z
LAST-MODIFIED:20250211T191040Z
UID:1229-1739993400-1740004200@deambulaterre.org
SUMMARY:Blabla de l'ESS : projet minier Taranis
DESCRIPTION:Cet été\, en pleine période de transition électorale\, une consultation citoyenne a été lancée en toute discrétion.  Elle portait pourtant sur une demande qui n’a rien d’anodin : 𝐥’𝐨𝐜𝐭𝐫𝐨𝐢 𝐝’𝐮𝐧 𝐩𝐞𝐫𝐦𝐢𝐬 𝐝𝐞 𝐫𝐞𝐜𝐡𝐞𝐫𝐜𝐡𝐞𝐬 𝐦𝐢𝐧𝐢𝐞̀𝐫𝐞𝐬 𝐬𝐮𝐫 𝐧𝐨𝐭𝐫𝐞 𝐭𝐞𝐫𝐫𝐢𝐭𝐨𝐢𝐫𝐞…\nVoir l’article de Déambulaterre : https://deambulaterre.org/2024/10/03/danger-mines-anti-citoyennes/\n\nL’association Eau et Rivière de Bretagne encourage les habitants à 𝐛𝐥𝐨𝐪𝐮𝐞𝐫 𝐥𝐞𝐬 𝐨𝐩𝐞́𝐫𝐚𝐭𝐢𝐨𝐧𝐬 𝐝’𝐞𝐱𝐩𝐥𝐨𝐫𝐚𝐭𝐢𝐨𝐧 qui pourraient démarrer après la fin de cette consultation qu’elle a qualifiée d’ «indigente. Quelles conséquences sur 𝐥’𝐚𝐢𝐫\, 𝐥𝐞𝐬 𝐫𝐢𝐯𝐢𝐞̀𝐫𝐞𝐬 𝐞𝐭 𝐞𝐚𝐮𝐱 𝐬𝐨𝐮𝐭𝐞𝐫𝐫𝐚𝐢𝐧𝐞𝐬\, l𝐚 𝐛𝐢𝐨𝐝𝐢𝐯𝐞𝐫𝐬𝐢𝐭𝐞́\, 𝐥𝐚 𝐬𝐚𝐧𝐭𝐞́ 𝐩𝐮𝐛𝐥𝐢𝐪𝐮𝐞 ?\n\n𝑀𝑒𝑟𝑐𝑟𝑒𝑑𝑖 29 𝑗𝑎𝑛𝑣𝑖𝑒𝑟\, rendez-vous à 19h30 au Champ Commun à Augan pour creuser le sujet avec nous et 𝐏𝐚𝐮𝐥𝐢𝐧𝐞 𝐏𝐞𝐧𝐧𝐨𝐛𝐞𝐫 (Eau et Rivières de Bretagne)
URL:https://deambulaterre.org/event/blabla-de-less-projet-minier-taranis/
LOCATION:Champ Commun\, Augan\, Augan\, 56800
ATTACH;FMTTYPE=image/jpeg:https://deambulaterre.org/wp-content/uploads/2025/01/blablataranis.jpg
END:VEVENT
END:VCALENDAR