BEGIN:VCALENDAR
VERSION:2.0
PRODID:-//Déambulaterre - ECPv6.15.20//NONSGML v1.0//EN
CALSCALE:GREGORIAN
METHOD:PUBLISH
X-WR-CALNAME:Déambulaterre
X-ORIGINAL-URL:https://deambulaterre.org
X-WR-CALDESC:Évènements pour Déambulaterre
REFRESH-INTERVAL;VALUE=DURATION:PT1H
X-Robots-Tag:noindex
X-PUBLISHED-TTL:PT1H
BEGIN:VTIMEZONE
TZID:Europe/Paris
BEGIN:DAYLIGHT
TZOFFSETFROM:+0100
TZOFFSETTO:+0200
TZNAME:CEST
DTSTART:20240331T010000
END:DAYLIGHT
BEGIN:STANDARD
TZOFFSETFROM:+0200
TZOFFSETTO:+0100
TZNAME:CET
DTSTART:20241027T010000
END:STANDARD
BEGIN:DAYLIGHT
TZOFFSETFROM:+0100
TZOFFSETTO:+0200
TZNAME:CEST
DTSTART:20250330T010000
END:DAYLIGHT
BEGIN:STANDARD
TZOFFSETFROM:+0200
TZOFFSETTO:+0100
TZNAME:CET
DTSTART:20251026T010000
END:STANDARD
BEGIN:DAYLIGHT
TZOFFSETFROM:+0100
TZOFFSETTO:+0200
TZNAME:CEST
DTSTART:20260329T010000
END:DAYLIGHT
BEGIN:STANDARD
TZOFFSETFROM:+0200
TZOFFSETTO:+0100
TZNAME:CET
DTSTART:20261025T010000
END:STANDARD
END:VTIMEZONE
BEGIN:VEVENT
DTSTART;TZID=Europe/Paris:20250410T200000
DTEND;TZID=Europe/Paris:20250410T230000
DTSTAMP:20260420T032241
CREATED:20250406T173951Z
LAST-MODIFIED:20250406T173951Z
UID:1374-1744315200-1744326000@deambulaterre.org
SUMMARY:Projection débat - La théorie du boxeur
DESCRIPTION:Alors que la moitié des fermes va changer de main d’ici dix ans\, le film questionne agriculteurs et chercheurs sans à priori pour repenser notre façon de produire et construire la résilience alimentaire d’un territoire. \nLes excès du climat frappent de plus en plus durement le monde agricole. En 2022\, la sécheresse crée un véritable électrochoc dans la vallée de la Drôme. Nathanaël Coste\, géographe de formation\, enquête chez des agriculteurs bio et conventionnels pour qui le temps de l’adaptation a déjà commencé. Sur le terrain\, les approches diffèrent\, qu’elles reposent sur les technologies\, les stockages d’eau\, la gestion des sols ou l’agroécologie. \nLa projection sera suivie d’un temps d’échange sur les problématiques et solutions locales autour du partage de l’eau\, avec des interventions d’acteurs de notre territoire. \nPas d’inscription – Prix ticket d’entrée du cinéma
URL:https://deambulaterre.org/event/projection-debat-la-theorie-du-boxeur/
LOCATION:Cinema l’hermine\, plelen-le-grand
END:VEVENT
BEGIN:VEVENT
DTSTART;TZID=Europe/Paris:20250412T110000
DTEND;TZID=Europe/Paris:20250413T230000
DTSTAMP:20260420T032241
CREATED:20250408T061749Z
LAST-MODIFIED:20250408T061749Z
UID:1377-1744455600-1744585200@deambulaterre.org
SUMMARY:La fête presque foraine
DESCRIPTION:Un peu partout des actions militantes et solidaires fleurissent face à l’inaction des pouvoirs politiques concernant la précarité et l’exil de milliers de personnes heurtés par la misère\, la famine\, la guerre…et toutes sortes d’inhumanités dans leur pays.Dans ce contexte\, le collectif « Les tas de fête »implanté en Brocéliande\, s’organise pour venir en soutient à toutes ces personnes (y compris des familles et des mineurs…)\nAvec la participation de ses partenaires associatifs (L’Elfe\, Bulle et la maison d’Ernestine)\,il propose des évènements afin de récolter de l’argent et mettre en résotage les différentes associations déjà oeuvrantes pour la cause.\n\n\nPour construire ensemble ce nouveau monde plus solidaire\, se rencontrer\, échanger \, s’informer….venez célébrer avec nous la prochaine « Fête presque foraine » qui aura lieu les 12 et 13 Avril au vélodrome de Plélan Le Grand (35).Des animations presque foraines\, des ateliers de bricolage en tout genre pour petits et grands\, des conférences et des stands associatifs pour rester informer sur le sujet\, le tout dans une ambiance musicale\, chaleureuse et festive parce que si « La fraternité n‘est qu‘une idée humaine\, la solidarité est une idée universelle. »Victor Hugo\nOù: Au vélodrome de Plélan Le Grand\nCombien: Prix libre
URL:https://deambulaterre.org/event/la-fete-presque-foraine/
LOCATION:Vélodrome de Plélan le Grand\, Plélan le grand
END:VEVENT
BEGIN:VEVENT
DTSTART;TZID=Europe/Paris:20250424T200000
DTEND;TZID=Europe/Paris:20250424T220000
DTSTAMP:20260420T032241
CREATED:20250418T065732Z
LAST-MODIFIED:20250418T065732Z
UID:1383-1745524800-1745532000@deambulaterre.org
SUMMARY:Débat : Que serait la vie de nos territoires sans nos associations ?
DESCRIPTION:Jeudi 24 avril à la salle des fêtes de Ploërmel (rue du Général Giraud) \n19h : AG de l’association Citoyen·nes\, ça nous regarde ! \n20h : Débat « Les associations actrices majeures de nos communes : quelles sont les conséquences des restrictions / suppressions des subventions aux associations ? » avec Thierry Abaléa\, président du Mouvement associatif de Bretagne \nDe la Bretagne au niveau national\, la baisse des financements aux associations\, les retards de paiement\, les problèmes de trésorerie sont les sujets qui sont à l’ordre du jour. Ne sont-ils pas des attaques en règle de la vie associative\, de la liberté associative ? \n« Que serait la vie quotidienne de nos territoires sans nos associations ? » telle est la question qui va être portée haut et fort auprès de la presse régionale et nationale. \nVenez échanger sur votre réalité ! \nContact : ccnr56@kaz.bzh
URL:https://deambulaterre.org/event/debat-que-serait-la-vie-de-nos-territoires-sans-nos-associations/
LOCATION:salle des fêtes de Ploërmel\, rue du général Giraud\, Ploermel
ORGANIZER;CN="Citoyen.ne.s %C3%A7a nous regarde":MAILTO:ccnr56@kaz.bzh
END:VEVENT
BEGIN:VEVENT
DTSTART;TZID=Europe/Paris:20250426T140000
DTEND;TZID=Europe/Paris:20250426T160000
DTSTAMP:20260420T032241
CREATED:20250418T070128Z
LAST-MODIFIED:20250418T070128Z
UID:1386-1745676000-1745683200@deambulaterre.org
SUMMARY:Temps de rencontres des acteurs du territoire et visite des Ateliers Reliés
DESCRIPTION:Samedi 26 avril aux Ateliers Reliés à Concoret (Le Vaubossard) \nQu’est-ce que c’est que ça\, les Ramdams de l’ESS ? \nUne sorte de « fête des voisins » des associations et coopératives du territoire\, pensée pour se rencontrer\, mieux se connaître\, partager nos enjeux et nos actualités\, et passer un bon moment ! \nSamedi 26 avril\, nous invitons tou·tes les bénévoles et salarié·es de l’économie sociale et solidaire à ce nouveau rendez-vous\, dont la première édition se tiendra aux Ateliers Reliés (Le Vaubossard\, Concoret) de 14 à 16h. \nPourquoi venir ?\n* Découvrir (ou redécouvrir) la coopérative d’artisans du bois et le lieu des Ateliers Reliés\n* Rencontrer d’autres associations et coopératives du pays de Ploërmel et créer des liens\n* Passer ensemble un moment convivial et festif (ce sera la fête des Ateliers Reliés à partir de 16h : contes\, théâtre\, concerts et restauration) \nInscrivez-vous dès maintenant : https://link.infini.fr/ramdamess
URL:https://deambulaterre.org/event/temps-de-rencontres-des-acteurs-du-territoire-et-visite-des-ateliers-relies/
LOCATION:Les ateliers reliés\, Le Vaubossard\, Concoret
ORGANIZER;CN="ESS'entiel Plo%C3%ABrmel":MAILTO:contact@essentiel-ploermel.fr
END:VEVENT
BEGIN:VEVENT
DTSTART;TZID=Europe/Paris:20250430T193000
DTEND;TZID=Europe/Paris:20250430T210000
DTSTAMP:20260420T032241
CREATED:20250408T062357Z
LAST-MODIFIED:20250408T062357Z
UID:1380-1746041400-1746046800@deambulaterre.org
SUMMARY:Blablas de l'ESS : Chantiers solidaires\, apprendre et construire ensemble
DESCRIPTION:Soirée débat au  Champ Commun à Augan avec le Pôle ESS’entiel Ploërmel qui co-anime et organise l’événement. \nInvités : Sylvie et Joachim de l’association d’entraide « Apporter demain » de la Grée Saint-Laurent (56). \nAutour de Josselin\, une vingtaine de foyers mutualisent matériel et savoir-faire au sein de l’association APPORTER DEMAIN. De l’entraide entre voisin·e·s\, des ateliers et des chantiers solidaires sont organisés tous les mois pour faire ensemble\, transmettre et apprendre des techniques d’éco-rénovation.\nL’objectif : construire\, par l’entraide\, l’autonomie individuelle et collective. \nUne initiative inspirante et joyeuse qui ne demande qu’à essaimer !
URL:https://deambulaterre.org/event/blablas-de-less-chantiers-solidaires-apprendre-et-construire-ensemble/
END:VEVENT
END:VCALENDAR