BEGIN:VCALENDAR
VERSION:2.0
PRODID:-//Déambulaterre - ECPv6.15.20//NONSGML v1.0//EN
CALSCALE:GREGORIAN
METHOD:PUBLISH
X-WR-CALNAME:Déambulaterre
X-ORIGINAL-URL:https://deambulaterre.org
X-WR-CALDESC:Évènements pour Déambulaterre
REFRESH-INTERVAL;VALUE=DURATION:PT1H
X-Robots-Tag:noindex
X-PUBLISHED-TTL:PT1H
BEGIN:VTIMEZONE
TZID:Europe/Paris
BEGIN:DAYLIGHT
TZOFFSETFROM:+0100
TZOFFSETTO:+0200
TZNAME:CEST
DTSTART:20240331T010000
END:DAYLIGHT
BEGIN:STANDARD
TZOFFSETFROM:+0200
TZOFFSETTO:+0100
TZNAME:CET
DTSTART:20241027T010000
END:STANDARD
BEGIN:DAYLIGHT
TZOFFSETFROM:+0100
TZOFFSETTO:+0200
TZNAME:CEST
DTSTART:20250330T010000
END:DAYLIGHT
BEGIN:STANDARD
TZOFFSETFROM:+0200
TZOFFSETTO:+0100
TZNAME:CET
DTSTART:20251026T010000
END:STANDARD
BEGIN:DAYLIGHT
TZOFFSETFROM:+0100
TZOFFSETTO:+0200
TZNAME:CEST
DTSTART:20260329T010000
END:DAYLIGHT
BEGIN:STANDARD
TZOFFSETFROM:+0200
TZOFFSETTO:+0100
TZNAME:CET
DTSTART:20261025T010000
END:STANDARD
END:VTIMEZONE
BEGIN:VEVENT
DTSTART;TZID=Europe/Paris:20251101T140000
DTEND;TZID=Europe/Paris:20251101T200000
DTSTAMP:20260419T174835
CREATED:20250910T190904Z
LAST-MODIFIED:20250929T155010Z
UID:1639-1762005600-1762027200@deambulaterre.org
SUMMARY:Festival des médias libres en Brocéliande
DESCRIPTION:Le 1er novembre 2025 à Augan\, de 14 h. à 20 h. \nAu programme (encore en construction) : \nAtelier d’écriture journalistique \nAtelier de photo-journalisme \nAtelier radio \nAtelier web libre\, passer à Linux \nTable des luttes locales \nAnimation du Crieur \nStand des partenaires\, Timbre FM\, KAZ\, la Grange aux livres… \nTables ronde avec des médias libres et indépendants de l’Ouest. \nEntrée à prix libre \nPlus d’infos : https://deambulaterre.org/2025/09/09/festival-des-medias-libres/
URL:https://deambulaterre.org/event/festival-des-medias-libres-en-broceliande/
LOCATION:Salle multi-fonctions d’Augan\, Augan\, 56800
ATTACH;FMTTYPE=image/jpeg:https://deambulaterre.org/wp-content/uploads/2025/09/Affiche-festival-v4.jpg
END:VEVENT
BEGIN:VEVENT
DTSTART;TZID=Europe/Paris:20251110T183000
DTEND;TZID=Europe/Paris:20251110T213000
DTSTAMP:20260419T174835
CREATED:20251027T075955Z
LAST-MODIFIED:20251027T075955Z
UID:1990-1762799400-1762810200@deambulaterre.org
SUMMARY:Rencontre-débat du Galais : l'habitat participatif
DESCRIPTION:La monnaie locale Le Galais vous convie à une soirée autour de Cheminâge\, l’habitat participatif du Roc-Saint-André. \nL’occasion de se rencontrer et d’échanger autour d’autres manières d’habiter\, avec les invité·es et toutes les personnes présentes.\n\nRendez-vous vendredi 10 novembre à 18h30 à la Fourmilière (59A boulevard Laënnec\, Ploërmel).\nEntrée gratuite\, soupe locale à prix libre.
URL:https://deambulaterre.org/event/rencontre-debat-du-galais-lhabitat-participatif/
LOCATION:La Fourmilière\, 59a Boulevard Laennec\, Ploërmel\, Morbihan\, 56800
END:VEVENT
BEGIN:VEVENT
DTSTART;TZID=Europe/Paris:20251115T170000
DTEND;TZID=Europe/Paris:20251115T213000
DTSTAMP:20260419T174835
CREATED:20251107T154714Z
LAST-MODIFIED:20251107T154714Z
UID:2030-1763226000-1763242200@deambulaterre.org
SUMMARY:Soirée Bolivienne : Conférence-débat sur Che Guevara\, soupe et concert
DESCRIPTION:Le 15 novembre prochain \n« Un Hangar sur les nuages » organise une « Soirée Bolivienne » \nSalle des fêtes de Quily \n56800 Val d’Oust \n17 heures: Conférence débat « Le Guevarisme est un Humanisme » par Tania Bolivar. \nNous connaissons toutes et tous la figure du Che. L’étoile rouge\, le visage séduisant d’un jeune homme au regard ténébreux\, le poing levé… A l’image de Che Guevara est associé un ensemble de signes révolutionnaires plus ou moins romantiques\, plus ou moins appréciés. Mais\, au delà de ces clichés\, connaissons-nous réellement sa pensée ? C’est ce que se propose d’explorer Tania Bolivar. Loin des propagandes\, sa conférence/débat invite à réfléchir sur notre époque à partir du parcours politique de Che Guevara. \n19 heures: Soupe bolivienne \n20 heures: HUK KALLPALLA \nNeuf musiciens sur scène\, talentueux\, biberonnés à la musique bolivienne depuis leur plus tendre enfance\, nous feront vibrer aux sons de la cordillère des Andes\, montagnes tutélaires de civilisations millénaires.
URL:https://deambulaterre.org/event/soiree-bolivienne-conference-debat-sur-che-guevara-soupe-et-concert/
LOCATION:Salle des fetes de Quily\, Val d'Oust\, 56800
ATTACH;FMTTYPE=image/jpeg:https://deambulaterre.org/wp-content/uploads/2025/11/Affiche-15-novembre.jpg
END:VEVENT
BEGIN:VEVENT
DTSTART;TZID=Europe/Paris:20251121T200000
DTEND;TZID=Europe/Paris:20251121T220000
DTSTAMP:20260419T174835
CREATED:20251119T205456Z
LAST-MODIFIED:20251119T205759Z
UID:2040-1763755200-1763762400@deambulaterre.org
SUMMARY:Soirée débat : quelle sécurité sociale pour demain ?
DESCRIPTION:A l’occasion du 80ème anniversaire de notre sécurité sociale\, les communistes des communes de Brocéliande invitent à une réunion-débat publique : \nNous citoyens\, devons nous réapproprier la Sécurité Sociale\, notre bien commun ! \nAvec Maxime Paul\, dirigeant de mutuelle et Frédéric Rauch\, économiste \nVendredi 21 novembre 2025 à 20h \nSalle des fêtes Mairie de Plélan Le Grand \nrue Chèze – bâtiment mairie
URL:https://deambulaterre.org/event/soiree-debat-quelle-securite-sociale-pour-demain/
LOCATION:Salle des fetes de Plélan le grand\, rue Chèze\, Plélan le Grand
END:VEVENT
BEGIN:VEVENT
DTSTART;TZID=Europe/Paris:20251126T193000
DTEND;TZID=Europe/Paris:20251126T210000
DTSTAMP:20260419T174835
CREATED:20251022T150502Z
LAST-MODIFIED:20251022T150618Z
UID:1980-1764185400-1764190800@deambulaterre.org
SUMMARY:Blabla de l'ESS : notre territoire peut-il nourrir ses habitant.es ?
DESCRIPTION:𝐐𝐮𝐞 𝐩𝐫𝐨𝐝𝐮𝐢𝐭-𝐨𝐧 𝐯𝐫𝐚𝐢𝐦𝐞𝐧𝐭 𝐢𝐜𝐢 ? Est-ce que cela correspond aux besoins des habitant·es ? Et si on devait réduire notre dépendance aux importations\, serions-nous prêt·es ?\nEn cas de crise – climatique\, économique\, géopolitique – serions-nous capables de 𝐧𝐨𝐮𝐫𝐫𝐢𝐫 𝐭𝐨𝐮𝐭𝐞 𝐥𝐚 𝐩𝐨𝐩𝐮𝐥𝐚𝐭𝐢𝐨𝐧 𝐝𝐮 𝐩𝐚𝐲𝐬 𝐝𝐞 𝐏𝐥𝐨𝐞̈𝐫𝐦𝐞𝐥 𝐚𝐯𝐞𝐜 𝐥𝐞𝐬 𝐫𝐞𝐬𝐬𝐨𝐮𝐫𝐜𝐞𝐬 𝐚𝐠𝐫𝐢𝐜𝐨𝐥𝐞𝐬 𝐥𝐨𝐜𝐚𝐥𝐞𝐬 ?\nPour pouvoir répondre à ces questions\, Anne-Cécile (Les Greniers d’Abondance) nous présentera 𝐓𝐞𝐫𝐫𝐢𝐭𝐨𝐢𝐫𝐞𝐬 𝐟𝐞𝐫𝐭𝐢𝐥𝐞𝐬\, un outil puissant et accessible à tou·tes de diagnostic et de prospective\, pour imaginer un futur alimentaire plus local\, plus juste\, plus résistant !\nRendez-vous 𝐦𝐞𝐫𝐜𝐫𝐞𝐝𝐢 𝟐𝟔 𝐧𝐨𝐯𝐞𝐦𝐛𝐫𝐞 𝐚̀ 𝟏𝟗𝐡𝟑𝟎 au bar du Champ Commun  pour une rencontre-débat !
URL:https://deambulaterre.org/event/blabla-de-less-notre-territoire-peut-il-nourrir-ses-habitant-es/
LOCATION:Le Champ Commun\, Augan\, Morbihan
END:VEVENT
BEGIN:VEVENT
DTSTART;TZID=Europe/Paris:20251128T200000
DTEND;TZID=Europe/Paris:20251128T220000
DTSTAMP:20260419T174835
CREATED:20251125T130942Z
LAST-MODIFIED:20251125T130942Z
UID:2045-1764360000-1764367200@deambulaterre.org
SUMMARY:Projection du film "L'histoire des gilets jaunes par nous"
DESCRIPTION:Vendredi 28 novembre 2025 au Relais de la Telhaie à Guer à 20h\, projection en présence de l’équipe qui a réalisé le film. \nIl s’agit d’un vrai film d’action sur l’année 2018/2019 qui suit jour par jour l’insurrection des gilets jaunes. Réalisé grâce à un partage d’images. \nLa projo sera suivie d’une discussion pour celles et ceux qui veulent. \nRepas à prix libre sur place dès 19h
URL:https://deambulaterre.org/event/projection-du-film-lhistoire-des-gilets-jaunes-par-nous/
LOCATION:Le Relais de la Telhaie\, 2 rue des Bruyères\, Guer\, 56380\, France
END:VEVENT
END:VCALENDAR